Workbook

Sheet 1
A1: ОРГАНИЗАЦИЙ ВСЕГО | B1: =COUNTIF($L$7:$L$63650,"да") -> 552 | M1: ПО ВСЕЙ ТАБЛИЦЕ | N1: =SUM(N$7:N$63650) -> 16595 | O1: =SUM(O$7:O$63650) -> 16481 | P1: =SUM(P$7:P$63650) -> 15233 | T1: =SUM(T$7:T$63650) -> 19562 | U1: =SUM(U$7:U$63650) -> 20371 | V1: =SUM(V$7:V$63650) -> 20690 | W1: =SUM(W$7:W$63650) -> 8461 | X1: =SUM(X$7:X$63650) -> 8752 | Y1: =SUM(Y$7:Y$63650) -> 8875 | Z1: =SUM(Z$7:Z$63650) -> 1972 | AA1: =SUM(AA$7:AA$63650) -> 2082 | ... AK1: =SUM(AK$7:AK$63650) -> 5422 | AM1: =SUM(AM$7:AM$63650) -> 797 | AN1: =SUM(AN$7:AN$63650) -> 1673 | AO1: =SUM(AO$7:AO$63650) -> 1768 | AP1: =SUM(AP$7:AP$63650) -> 1665 | AQ1: =SUM(AQ$7:AQ$63650) -> 3338 | AR1: =SUM(AR$7:AR$63650) -> 3663 | AS1: =SUM(AS$7:AS$63650) -> 3705 | AT1: =SUM(AT$7:AT$63650) -> 2001 | ... CZ1: =SUM(CZ$7:CZ$63650) -> 6645
A2: ОРГАНИЗАЦИЙ только если СВЕРКА="Отправлена на рассмотрение" и ФАЙЛ="да" | B2: =COUNTIFS($J$7:$J$63650,"Отправлена на рассмотрение",$L$7:$L$63650,"да",$M$7:$M$63650,"да") -> 471 | C2: ИНФОРМАЦИЯ о наличии в зданиях подведомственных Минобрнауки России образовательных учреждениях, их филиалах и представительствах условий для получения профессионального образования инвалидами и лицами с ограниченными возможностями здоровья | M2: только если СВЕРКА="Отправлена на рассмотрение" и ФАЙЛ="да" | N2: =SUMIFS(N$7:N$63650,$J$7:$J$63650,"Отправлена на рассмотрение",$M$7:$M$63650,"да") -> 16195 | O2: =SUMIFS(O$7:O$63650,$J$7:$J$63650,"Отправлена на рассмотрение",$M$7:$M$63650,"да") -> 16057 | P2: =SUMIFS(P$7:P$63650,$J$7:$J$63650,"Отправлена на рассмотрение",$M$7:$M$63650,"да") -> 14814 | T2: =SUMIFS(T$7:T$63650,$J$7:$J$63650,"Отправлена на рассмотрение",$M$7:$M$63650,"да") -> 19081 | U2: =SUMIFS(U$7:U$63650,$J$7:$J$63650,"Отправлена на рассмотрение",$M$7:$M$63650,"да") -> 19807 | V2: =SUMIFS(V$7:V$63650,$J$7:$J$63650,"Отправлена на рассмотрение",$M$7:$M$63650,"да") -> 20119 | W2: =SUMIFS(W$7:W$63650,$J$7:$J$63650,"Отправлена на рассмотрение",$M$7:$M$63650,"да") -> 8181 | X2: =SUMIFS(X$7:X$63650,$J$7:$J$63650,"Отправлена на рассмотрение",$M$7:$M$63650,"да") -> 8456 | Y2: =SUMIFS(Y$7:Y$63650,$J$7:$J$63650,"Отправлена на рассмотрение",$M$7:$M$63650,"да") -> 8566 | Z2: =SUMIFS(Z$7:Z$63650,$J$7:$J$63650,"Отправлена на рассмотрение",$M$7:$M$63650,"да") -> 1895 | AA2: =SUMIFS(AA$7:AA$63650,$J$7:$J$63650,"Отправлена на рассмотрение",$M$7:$M$63650,"да") -> 2002 | ... AK2: =SUMIFS(AK$7:AK$63650,$J$7:$J$63650,"Отправлена на рассмотрение",$M$7:$M$63650,"да") -> 5192 | AM2: =SUMIFS(AM$7:AM$63650,$J$7:$J$63650,"Отправлена на рассмотрение",$M$7:$M$63650,"да") -> 775 | AN2: =SUMIFS(AN$7:AN$63650,$J$7:$J$63650,"Отправлена на рассмотрение",$M$7:$M$63650,"да") -> 1617 | AO2: =SUMIFS(AO$7:AO$63650,$J$7:$J$63650,"Отправлена на рассмотрение",$M$7:$M$63650,"да") -> 1695 | AP2: =SUMIFS(AP$7:AP$63650,$J$7:$J$63650,"Отправлена на рассмотрение",$M$7:$M$63650,"да") -> 1599 | AQ2: =SUMIFS(AQ$7:AQ$63650,$J$7:$J$63650,"Отправлена на рассмотрение",$M$7:$M$63650,"да") -> 3188 | AR2: =SUMIFS(AR$7:AR$63650,$J$7:$J$63650,"Отправлена на рассмотрение",$M$7:$M$63650,"да") -> 3513 | AS2: =SUMIFS(AS$7:AS$63650,$J$7:$J$63650,"Отправлена на рассмотрение",$M$7:$M$63650,"да") -> 3562 | AT2: =SUMIFS(AT$7:AT$63650,$J$7:$J$63650,"Отправлена на рассмотрение",$M$7:$M$63650,"да") -> 1921 | ... CZ2: =SUMIFS(CZ$7:CZ$63650,$J$7:$J$63650,"Отправлена на рассмотрение",$M$7:$M$63650,"да") -> 6364
A3: Организация | J3: Мониторинг наличия в учреждениях профессионального образования условий для получения профессионального образования инвалидами и лицами с ограниченными возможностями здоровья | N3: Головная организация | AM3: Свод данных по обособленным подразделениям | CE3: Сумма показателей (головная организация + обособленные подразделения)
N4: Количество обучающихся, являющихся лицами с ограниченными возможностями здоровья (ЛОВЗ) и инвалидами (чел.) | Q4: Направления по укрупненным группам специальностей, по которым обучаются инвалиды и ЛОВЗ_x000D_ Перечислить укрупненную группу специальностей через запятую | T4: Количество зданий учреждения, в которых располагается образовательное учреждение профессионального образования, всего зданий | W4: Из них количество зданий, которые являются местами предоставления образовательных услуг, а также являются местами для временного проживания обучающихся (общежитиями) | Z4: 1. В том числе количество зданий учреждения, обеспечивающих условия для получения профессионального образования, а также временного проживания (общежития) инвалидами и ЛОВЗ | AC4: 2. В том числе количество зданий учреждения, обеспечивающих частичные условия для получения профессионального образования, а также временного проживания (общежития) инвалидами и ЛОВЗ | AF4: 3. В том числе количество зданий учреждения, не обеспечивающих условия для получения профессионального образования, а также временного проживания (общежития) инвалидами и ЛОВЗ | AI4: Количество зданий учреждения, в которых предоставляются образовательные услуги, а также места для временного проживания обучающихся - инвалидов и ЛОВЗ (общежития) | AL4: Примечание | AM4: Филиалы | BI4: Представительства
AM5: Число филиалов | AN5: Количество обучающихся, являющихся лицами с ограниченными возможностями здоровья (ЛОВЗ) и инвалидами (чел.) | AQ5: Количество зданий учреждения, в которых располагается образовательное учреждение профессионального образования, всего зданий | AT5: Из них количество зданий, которые являются местами предоставления образовательных услуг, а также являются местами для временного проживания обучающихся (общежитиями) | AW5: 1. В том числе количество зданий учреждения, обеспечивающих условия для получения профессионального образования, а также временного проживания (общежития) инвалидами и ЛОВЗ | AZ5: 2. В том числе количество зданий учреждения, обеспечивающих частичные условия для получения профессионального образования, а также временного проживания (общежития) инвалидами и ЛОВЗ | BC5: 3. В том числе количество зданий учреждения, не обеспечивающих условия для получения профессионального образования, а также временного проживания (общежития) инвалидами и ЛОВЗ | BF5: Количество зданий учреждения, в которых предоставляются образовательные услуги, а также места для временного проживания обучающихся - инвалидов и ЛОВЗ (общежития) | BI5: Число представительств | BJ5: Количество обучающихся, являющихся лицами с ограниченными возможностями здоровья (ЛОВЗ) и инвалидами (чел.) | BM5: Количество зданий учреждения, в которых располагается образовательное учреждение профессионального образования, всего зданий | BP5: Из них количество зданий, которые являются местами предоставления образовательных услуг, а также являются местами для временного проживания обучающихся (общежитиями) | BS5: 1. В том числе количество зданий учреждения, обеспечивающих условия для получения профессионального образования, а также временного проживания (общежития) инвалидами и ЛОВЗ | BV5: 2. В том числе количество зданий учреждения, обеспечивающих частичные условия для получения профессионального образования, а также временного проживания (общежития) инвалидами и ЛОВЗ | BY5: 3. В том числе количество зданий учреждения, не обеспечивающих условия для получения профессионального образования, а также временного проживания (общежития) инвалидами и ЛОВЗ | CB5: Количество зданий учреждения, в которых предоставляются образовательные услуги, а также места для временного проживания обучающихся - инвалидов и ЛОВЗ (общежития) | CE5: Число обособленных подразделений (филиалы + представительства) | CF5: Количество обучающихся, являющихся лицами с ограниченными возможностями здоровья (ЛОВЗ) и инвалидами (чел.) | CI5: Количество зданий учреждения, в которых располагается образовательное учреждение профессионального образования, всего зданий | CL5: Из них количество зданий, которые являются местами предоставления образовательных услуг, а также являются местами для временного проживания обучающихся (общежитиями) | CO5: 1. В том числе количество зданий учреждения, обеспечивающих условия для получения профессионального образования, а также временного проживания (общежития) инвалидами и ЛОВЗ | CR5: 2. В том числе количество зданий учреждения, обеспечивающих частичные условия для получения профессионального образования, а также временного проживания (общежития) инвалидами и ЛОВЗ | CU5: 3. В том числе количество зданий учреждения, не обеспечивающих условия для получения профессионального образования, а также временного проживания (общежития) инвалидами и ЛОВЗ | CX5: Количество зданий учреждения, в которых предоставляются образовательные услуги, а также места для временного проживания обучающихся - инвалидов и ЛОВЗ (общежития)
A6: ID | B6: Статус | C6: Подчиненность | D6: Субъект РФ | E6: Класс | F6: ОПФ | G6: Сокращенное наименование | H6: Полное наименование без ОПФ | I6: Полное наименование | J6: Сверка | K6: Приемка | L6: Доступность | M6: Файл исходных данных загружен, обработан и не содержит ошибок | N6: 2011 г. | O6: 2012 г. | P6: 2013 г. | Q6: 2011 г. | R6: 2012 г. | S6: 2013 г. | T6: 2011 г. | U6: 2012 г. | V6: 2013 г. | W6: 2011 г._x000D_ | X6: 2012 г._x000D_ | Y6: 2013 г._x000D_ | Z6: 2011 г._x000D_ | AA6: 2012 г._x000D_ | AB6: 2013 г._x000D_ | AC6: 2011 г._x000D_ | AD6: 2012 г._x000D_ | AE6: 2013 г._x000D_ | AF6: 2011 г._x000D_ | AG6: 2012 г._x000D_ | AH6: 2013 г._x000D_ | AI6: 2011 г._x000D_ | AJ6: 2012 г._x000D_ | AK6: 2013 г._x000D_ | AN6: 2011 г. | AO6: 2012 г. | AP6: 2013 г. | AQ6: 2011 г. | AR6: 2012 г. | AS6: 2013 г. | AT6: 2011 г._x000D_ | AU6: 2012 г._x000D_ | AV6: 2013 г._x000D_ | AW6: 2011 г._x000D_ | AX6: 2012 г._x000D_ | AY6: 2013 г._x000D_ | AZ6: 2011 г._x000D_ | BA6: 2012 г._x000D_ | BB6: 2013 г._x000D_ | BC6: 2011 г._x000D_ | BD6: 2012 г._x000D_ | BE6: 2013 г._x000D_ | BF6: 2011 г._x000D_ | BG6: 2012 г._x000D_ | BH6: 2013 г._x000D_ | BJ6: 2011 г. | BK6: 2012 г. | BL6: 2013 г. | BM6: 2011 г. | BN6: 2012 г. | BO6: 2013 г. | BP6: 2011 г._x000D_ | BQ6: 2012 г._x000D_ | BR6: 2013 г._x000D_ | BS6: 2011 г._x000D_ | BT6: 2012 г._x000D_ | BU6: 2013 г._x000D_ | BV6: 2011 г._x000D_ | BW6: 2012 г._x000D_ | BX6: 2013 г._x000D_ | BY6: 2011 г._x000D_ | BZ6: 2012 г._x000D_ | CA6: 2013 г._x000D_ | CB6: 2011 г._x000D_ | CC6: 2012 г._x000D_ | CD6: 2013 г._x000D_ | CF6: 2011 г. | CG6: 2012 г. | CH6: 2013 г. | CI6: 2011 г. | CJ6: 2012 г. | CK6: 2013 г. | CL6: 2011 г._x000D_ | CM6: 2012 г._x000D_ | CN6: 2013 г._x000D_ | CO6: 2011 г._x000D_ | CP6: 2012 г._x000D_ | CQ6: 2013 г._x000D_ | CR6: 2011 г._x000D_ | CS6: 2012 г._x000D_ | CT6: 2013 г._x000D_ | CU6: 2011 г._x000D_ | CV6: 2012 г._x000D_ | CW6: 2013 г._x000D_ | CX6: 2011 г._x000D_ | CY6: 2012 г._x000D_ | CZ6: 2013 г._x000D_
A7: 77 | B7: Действующая | C7: Минобрнауки России | D7: Ивановская область | E7: ВПО | F7: ФГБОУ ВПО | G7: ФГБОУ ВПО «ИГХТУ» | H7: Ивановский государственный химико-технологический университет | I7: федеральное государственное бюджетное образовательное учреждение высшего профессионального образования «Ивановский государственный химико-технологический университет» | J7: Отправлена на рассмотрение | K7: - | L7: да | M7: да | N7: 16 | O7: 15 | P7: 10 | Q7: 020000 Естественные науки, 030000 Гуманитарные науки, 230000 Информатика и вычислительная техника, 240000 Химическая и биотехнологии, 080000 Экономика и управление, 260000 Технология продовольственных продуктов и потребительских товаров | R7: 020000 Естественные науки, 030000 Гуманитарные науки, 230000 Информатика и вычислительная техника, 240000 Химическая и биотехнологии, 080000 Экономика и управление, 260000 Технология продовольственных продуктов и потребительских товаров | S7: 020000 Естественные науки, 030000 Гуманитарные науки, 230000 Информатика и вычислительная техника, 240000 Химическая и биотехнологии, 080000 Экономика и управление, 260000 Технология продовольственных продуктов и потребительских товаров | T7: 61 | U7: 58 | V7: 53 | W7: 12 | X7: 13 | Y7: 13 | Z7: 0 | AA7: 0 | AB7: 0 | AC7: 12 | AD7: 13 | AE7: 13 | AF7: 0 | AG7: 0 | AH7: 0 | AI7: 12 | AJ7: 13 | AK7: 13 | AM7: 0 | AN7: 0 | AO7: 0 | AP7: 0 | AQ7: 0 | AR7: 0 | AS7: 0 | AT7: 0 | AU7: 0 | AV7: 0 | AW7: 0 | AX7: 0 | AY7: 0 | AZ7: 0 | BA7: 0 | BB7: 0 | BC7: 0 | BD7: 0 | BE7: 0 | BF7: 0 | BG7: 0 | BH7: 0 | BI7: 0 | BJ7: 0 | BK7: 0 | BL7: 0 | BM7: 0 | BN7: 0 | BO7: 0 | BP7: 0 | BQ7: 0 | BR7: 0 | BS7: 0 | BT7: 0 | BU7: 0 | BV7: 0 | BW7: 0 | BX7: 0 | BY7: 0 | BZ7: 0 | CA7: 0 | CB7: 0 | CC7: 0 | CD7: 0 | CE7: =SUM(AM7,BI7) -> 0 | CF7: =SUM(N7,AN7,BJ7) -> 16 | CG7: =SUM(O7,AO7,BK7) -> 15 | CH7: =SUM(P7,AP7,BL7) -> 10 | CI7: =SUM(T7,AQ7,BM7) -> 61 | CJ7: =SUM(U7,AR7,BN7) -> 58 | CK7: =SUM(V7,AS7,BO7) -> 53 | CL7: =SUM(W7,AT7,BP7) -> 12 | CM7: =SUM(X7,AU7,BQ7) -> 13 | CN7: =SUM(Y7,AV7,BR7) -> 13 | CO7: =SUM(Z7,AW7,BS7) -> 0 | CP7: =SUM(AA7,AX7,BT7) -> 0 | ... CZ7: =SUM(AK7,BH7,CD7) -> 13
A8: 5 | B8: Действующая | C8: Минобрнауки России | D8: Амурская область | E8: ВПО | F8: ФГБОУ ВПО | G8: ФГБОУ ВПО «АмГУ» | H8: Амурский государственный университет | I8: федеральное государственное бюджетное образовательное учреждение высшего профессионального образования «Амурский государственный университет» | J8: Отправлена на рассмотрение | K8: - | L8: да | M8: да | N8: 35 | O8: 26 | P8: 48 | Q8: 010000 Физико-математические науки, 030000 Гуманитарные науки, 040000 Социальные науки, 070000 Культура и искусство, 080000 Экономика и управление, 140000 Энергетика, энергетическое машиностроение и электротехника, 230000 Информатика и вычислительная техника, 280000 Безопасность жизнидеятельности, природообустройство и защита окружающей среды | R8: 010000 Физико-математические науки, 030000 Гуманитарные науки, 040000 Социальные науки, 070000 Культура и искусство, 080000 Экономика и управление, 140000 Энергетика, энергетическое машиностроение и электротехника, 230000 Информатика и вычислительная техника, 280000 Безопасность жизнидеятельности, природообустройство и защита окружающей среды | S8: 010000 Физико-математические науки, 030000 Гуманитарные науки, 040000 Социальные науки, 070000 Культура и искусство, 080000 Экономика и управление, 140000 Энергетика, энергетическое машиностроение и электротехника, 230000 Информатика и вычислительная техника, 280000 Безопасность жизнидеятельности, природообустройство и защита окружающей среды | T8: 38 | U8: 38 | V8: 38 | W8: 12 | X8: 12 | Y8: 12 | Z8: 2 | AA8: 2 | AB8: 2 | AC8: 10 | AD8: 10 | AE8: 10 | AF8: 0 | AG8: 0 | AH8: 0 | AI8: 12 | AJ8: 12 | AK8: 12 | AL8: _ | AM8: 1 | AN8: 0 | AO8: 0 | AP8: 0 | AQ8: 0 | AR8: 0 | AS8: 0 | AT8: 0 | AU8: 0 | AV8: 0 | AW8: 0 | AX8: 0 | AY8: 0 | AZ8: 0 | BA8: 0 | BB8: 0 | BC8: 0 | BD8: 0 | BE8: 0 | BF8: 0 | BG8: 0 | BH8: 0 | BI8: 0 | BJ8: 0 | BK8: 0 | BL8: 0 | BM8: 0 | BN8: 0 | BO8: 0 | BP8: 0 | BQ8: 0 | BR8: 0 | BS8: 0 | BT8: 0 | BU8: 0 | BV8: 0 | BW8: 0 | BX8: 0 | BY8: 0 | BZ8: 0 | CA8: 0 | CB8: 0 | CC8: 0 | CD8: 0 | CE8: =SUM(AM8,BI8) -> 1 | CF8: =SUM(N8,AN8,BJ8) -> 35 | CG8: =SUM(O8,AO8,BK8) -> 26 | CH8: =SUM(P8,AP8,BL8) -> 48 | CI8: =SUM(T8,AQ8,BM8) -> 38 | CJ8: =SUM(U8,AR8,BN8) -> 38 | CK8: =SUM(V8,AS8,BO8) -> 38 | CL8: =SUM(W8,AT8,BP8) -> 12 | CM8: =SUM(X8,AU8,BQ8) -> 12 | CN8: =SUM(Y8,AV8,BR8) -> 12 | CO8: =SUM(Z8,AW8,BS8) -> 2 | CP8: =SUM(AA8,AX8,BT8) -> 2 | ... CZ8: =SUM(AK8,BH8,CD8) -> 12
A9: 283 | B9: Действующая | C9: Минобрнауки России | D9: Тамбовская область | E9: ВПО | F9: ФГБОУ ВПО | G9: ФГБОУ ВПО «ТГТУ» | H9: Тамбовский государственный технический университет | I9: федеральное государственное бюджетное образовательное учреждение высшего профессионального образования «Тамбовский государственный технический университет» | J9: Отправлена на рассмотрение | K9: - | L9: да | M9: да | N9: 9 | O9: 17 | P9: 15 | Q9: 230115, 080000, 210303, 210400, 200402, 240902 | R9: 230115, 270802, 140409, 230400, 090303, 210400, 200402 | S9: 230115, 270802, 140409, 230400, 090303, 080000, 200402 | T9: 69 | U9: 132 | V9: 132 | W9: 22 | X9: 22 | Y9: 22 | Z9: 1 | AA9: 1 | AB9: 1 | AC9: 2 | AD9: 2 | AE9: 2 | AF9: 19 | AG9: 19 | AH9: 19 | AI9: 2 | AJ9: 2 | AK9: 2 | AM9: 0 | AN9: 0 | AO9: 0 | AP9: 0 | AQ9: 0 | AR9: 0 | AS9: 0 | AT9: 0 | AU9: 0 | AV9: 0 | AW9: 0 | AX9: 0 | AY9: 0 | AZ9: 0 | BA9: 0 | BB9: 0 | BC9: 0 | BD9: 0 | BE9: 0 | BF9: 0 | BG9: 0 | BH9: 0 | BI9: 0 | BJ9: 0 | BK9: 0 | BL9: 0 | BM9: 0 | BN9: 0 | BO9: 0 | BP9: 0 | BQ9: 0 | BR9: 0 | BS9: 0 | BT9: 0 | BU9: 0 | BV9: 0 | BW9: 0 | BX9: 0 | BY9: 0 | BZ9: 0 | CA9: 0 | CB9: 0 | CC9: 0 | CD9: 0 | CE9: =SUM(AM9,BI9) -> 0 | CF9: =SUM(N9,AN9,BJ9) -> 9 | CG9: =SUM(O9,AO9,BK9) -> 17 | CH9: =SUM(P9,AP9,BL9) -> 15 | CI9: =SUM(T9,AQ9,BM9) -> 69 | CJ9: =SUM(U9,AR9,BN9) -> 132 | CK9: =SUM(V9,AS9,BO9) -> 132 | CL9: =SUM(W9,AT9,BP9) -> 22 | CM9: =SUM(X9,AU9,BQ9) -> 22 | CN9: =SUM(Y9,AV9,BR9) -> 22 | CO9: =SUM(Z9,AW9,BS9) -> 1 | CP9: =SUM(AA9,AX9,BT9) -> 1 | ... CZ9: =SUM(AK9,BH9,CD9) -> 2
A10: 137 | B10: Действующая | C10: Минобрнауки России | D10: Москва | E10: ВПО | F10: ФГБОУ ВПО | G10: ФГБОУ ВПО «МГГУ им. М.А. Шолохова» | H10: Московский государственный гуманитарный университет имени М.А. Шолохова | I10: федеральное государственное бюджетное образовательное учреждение высшего профессионального образования «Московский государственный гуманитарный университет имени М.А. Шолохова» | J10: Отправлена на рассмотрение | K10: - | L10: да | M10: да | N10: 24 | O10: 35 | P10: 33 | Q10: Гуманитарные науки, Автоматизация и управление, Информатика и вычислительная техника, Образование и педагогика, Культура и искусство | R10: Гуманитарные науки, Экономика и управление, Естественные науки, Автоматизация и управление, Информатика и вычислительная техника, Образование и педагогика, Культура и искусство | S10: Гуманитарные науки, Экономика и управление, Естественные науки, Автоматизация и управление, Информатика и вычислительная техника, Образование и педагогика, Культура и искусство | T10: 16 | U10: 16 | V10: 16 | W10: 11 | X10: 11 | Y10: 11 | Z10: 0 | AA10: 1 | AB10: 1 | AC10: 0 | AD10: 1 | AE10: 1 | AF10: 11 | AG10: 9 | AH10: 9 | AI10: 11 | AJ10: 11 | AK10: 11 | AM10: 9 | AN10: 17 | AO10: 25 | AP10: 25 | AQ10: 19 | AR10: 18 | AS10: 18 | AT10: 13 | AU10: 13 | AV10: 13 | AW10: 6 | AX10: 6 | AY10: 6 | AZ10: 8 | BA10: 8 | BB10: 8 | BC10: 0 | BD10: 0 | BE10: 0 | BF10: 7 | BG10: 7 | BH10: 7 | BI10: 0 | BJ10: 0 | BK10: 0 | BL10: 0 | BM10: 0 | BN10: 0 | BO10: 0 | BP10: 0 | BQ10: 0 | BR10: 0 | BS10: 0 | BT10: 0 | BU10: 0 | BV10: 0 | BW10: 0 | BX10: 0 | BY10: 0 | BZ10: 0 | CA10: 0 | CB10: 0 | CC10: 0 | CD10: 0 | CE10: =SUM(AM10,BI10) -> 9 | CF10: =SUM(N10,AN10,BJ10) -> 41 | CG10: =SUM(O10,AO10,BK10) -> 60 | CH10: =SUM(P10,AP10,BL10) -> 58 | CI10: =SUM(T10,AQ10,BM10) -> 35 | CJ10: =SUM(U10,AR10,BN10) -> 34 | CK10: =SUM(V10,AS10,BO10) -> 34 | CL10: =SUM(W10,AT10,BP10) -> 24 | CM10: =SUM(X10,AU10,BQ10) -> 24 | CN10: =SUM(Y10,AV10,BR10) -> 24 | CO10: =SUM(Z10,AW10,BS10) -> 6 | CP10: =SUM(AA10,AX10,BT10) -> 7 | ... CZ10: =SUM(AK10,BH10,CD10) -> 18
A11: 140 | B11: Действующая | C11: Минобрнауки России | D11: Москва | E11: ВПО | F11: ФГАОУ ВПО | G11: МИЭТ | H11: Национальный исследовательский университет «МИЭТ» | I11: федеральное государственное автономное образовательное учреждение высшего профессионального образования «Национальный исследовательский университет «МИЭТ» | J11: Отправлена на рассмотрение | K11: - | L11: да | M11: да | N11: 18 | O11: 12 | P11: 3 | Q11: 070000, 080000, 200000, 210000, 230000 | R11: 070000, 080000, 200000, 210000, 230000 | S11: 080000, 210000, 230000 | T11: 20 | U11: 20 | V11: 20 | W11: 11 | X11: 11 | Y11: 11 | Z11: 0 | AA11: 0 | AB11: 0 | AC11: 8 | AD11: 8 | AE11: 8 | AF11: 3 | AG11: 3 | AH11: 3 | AI11: 8 | AJ11: 8 | AK11: 4 | AM11: 0 | AN11: 0 | AO11: 0 | AP11: 0 | AQ11: 0 | AR11: 0 | AS11: 0 | AT11: 0 | AU11: 0 | AV11: 0 | AW11: 0 | AX11: 0 | AY11: 0 | AZ11: 0 | BA11: 0 | BB11: 0 | BC11: 0 | BD11: 0 | BE11: 0 | BF11: 0 | BG11: 0 | BH11: 0 | BI11: 0 | BJ11: 0 | BK11: 0 | BL11: 0 | BM11: 0 | BN11: 0 | BO11: 0 | BP11: 0 | BQ11: 0 | BR11: 0 | BS11: 0 | BT11: 0 | BU11: 0 | BV11: 0 | BW11: 0 | BX11: 0 | BY11: 0 | BZ11: 0 | CA11: 0 | CB11: 0 | CC11: 0 | CD11: 0 | CE11: =SUM(AM11,BI11) -> 0 | CF11: =SUM(N11,AN11,BJ11) -> 18 | CG11: =SUM(O11,AO11,BK11) -> 12 | CH11: =SUM(P11,AP11,BL11) -> 3 | CI11: =SUM(T11,AQ11,BM11) -> 20 | CJ11: =SUM(U11,AR11,BN11) -> 20 | CK11: =SUM(V11,AS11,BO11) -> 20 | CL11: =SUM(W11,AT11,BP11) -> 11 | CM11: =SUM(X11,AU11,BQ11) -> 11 | CN11: =SUM(Y11,AV11,BR11) -> 11 | CO11: =SUM(Z11,AW11,BS11) -> 0 | CP11: =SUM(AA11,AX11,BT11) -> 0 | ... CZ11: =SUM(AK11,BH11,CD11) -> 4
A12: 229 | B12: Действующая | C12: Минобрнауки России | D12: Ярославская область | E12: ВПО | F12: ФГБОУ ВПО | G12: РГАТУ | H12: Рыбинский государственный авиационный технический университет имени П.А. Соловьева | I12: федеральное государственное бюджетное образовательное учреждение высшего профессионального образования «Рыбинский государственный авиационный технический университет имени П.А. Соловьева». | J12: Отправлена на рассмотрение | K12: - | L12: да | M12: да | N12: 17 | O12: 13 | P12: 11 | Q12: 080000, 100000, 210000, 220000, 230000 | R12: 080000, 100000, 210000, 220000, 230000 | S12: 080000,100000,230000,210000 | T12: 19 | U12: 19 | V12: 19 | W12: 11 | X12: 11 | Y12: 11 | Z12: 0 | AA12: 0 | AB12: 0 | AC12: 11 | AD12: 11 | AE12: 11 | AF12: 0 | AG12: 0 | AH12: 0 | AI12: 11 | AJ12: 11 | AK12: 11 | AL12: Все здания университета приспособлены для ЛОВЗ, кроме инвалидов-колясочников. | AM12: 0 | AN12: 0 | AO12: 0 | AP12: 0 | AQ12: 0 | AR12: 0 | AS12: 0 | AT12: 0 | AU12: 0 | AV12: 0 | AW12: 0 | AX12: 0 | AY12: 0 | AZ12: 0 | BA12: 0 | BB12: 0 | BC12: 0 | BD12: 0 | BE12: 0 | BF12: 0 | BG12: 0 | BH12: 0 | BI12: 0 | BJ12: 0 | BK12: 0 | BL12: 0 | BM12: 0 | BN12: 0 | BO12: 0 | BP12: 0 | BQ12: 0 | BR12: 0 | BS12: 0 | BT12: 0 | BU12: 0 | BV12: 0 | BW12: 0 | BX12: 0 | BY12: 0 | BZ12: 0 | CA12: 0 | CB12: 0 | CC12: 0 | CD12: 0 | CE12: =SUM(AM12,BI12) -> 0 | CF12: =SUM(N12,AN12,BJ12) -> 17 | CG12: =SUM(O12,AO12,BK12) -> 13 | CH12: =SUM(P12,AP12,BL12) -> 11 | CI12: =SUM(T12,AQ12,BM12) -> 19 | CJ12: =SUM(U12,AR12,BN12) -> 19 | CK12: =SUM(V12,AS12,BO12) -> 19 | CL12: =SUM(W12,AT12,BP12) -> 11 | CM12: =SUM(X12,AU12,BQ12) -> 11 | CN12: =SUM(Y12,AV12,BR12) -> 11 | CO12: =SUM(Z12,AW12,BS12) -> 0 | CP12: =SUM(AA12,AX12,BT12) -> 0 | ... CZ12: =SUM(AK12,BH12,CD12) -> 11
A13: 318 | B13: Действующая | C13: Минобрнауки России | D13: Республика Башкортостан | E13: ВПО | F13: ФГБОУ ВПО | G13: ФГБОУ ВПО «УГАТУ» | H13: Уфимский государственный авиационный технический университет | I13: федеральное государственное бюджетное образовательное учреждение высшего профессионального образования «Уфимский государственный авиационный технический университет» | J13: Отправлена на рассмотрение | K13: - | L13: да | M13: да | N13: 37 | O13: 45 | P13: 52 | Q13: Авотоматика и управление(220000), инфрорматика и вычислительная техника (230000), металлургия, машиностроение и материалообработка (15000), Экономика и управление (080000), Электронная техника, радиотехника и связь (210000), энергетика, энергетическое машиностроение и электротехника (140000) | R13: Авотоматика и управление(220000), инфрорматика и вычислительная техника (230000), металлургия, машиностроение и материалообработка (15000), Экономика и управление (080000), Электронная техника, радиотехника и связь (210000), энергетика, энергетическое машиностроение и электротехника (140000) | S13: Авотоматика и управление(220000), инфрорматика и вычислительная техника (230000), металлургия, машиностроение и материалообработка (15000), Экономика и управление (080000), Электронная техника, радиотехника и связь (210000), энергетика, энергетическое машиностроение и электротехника (140000) | T13: 75 | U13: 76 | V13: 76 | W13: 28 | X13: 29 | Y13: 29 | Z13: 0 | AA13: 0 | AB13: 0 | AC13: 0 | AD13: 7 | AE13: 15 | AF13: 28 | AG13: 22 | AH13: 14 | AI13: 20 | AJ13: 21 | AK13: 21 | AM13: 6 | AN13: 2 | AO13: 3 | AP13: 4 | AQ13: 20 | AR13: 20 | AS13: 16 | AT13: 20 | AU13: 20 | AV13: 16 | AW13: 0 | AX13: 0 | AY13: 0 | AZ13: 10 | BA13: 10 | BB13: 8 | BC13: 10 | BD13: 10 | BE13: 8 | BF13: 3 | BG13: 3 | BH13: 6 | BI13: 0 | BJ13: 0 | BK13: 0 | BL13: 0 | BM13: 0 | BN13: 0 | BO13: 0 | BP13: 0 | BQ13: 0 | BR13: 0 | BS13: 0 | BT13: 0 | BU13: 0 | BV13: 0 | BW13: 0 | BX13: 0 | BY13: 0 | BZ13: 0 | CA13: 0 | CB13: 0 | CC13: 0 | CD13: 0 | CE13: =SUM(AM13,BI13) -> 6 | CF13: =SUM(N13,AN13,BJ13) -> 39 | CG13: =SUM(O13,AO13,BK13) -> 48 | CH13: =SUM(P13,AP13,BL13) -> 56 | CI13: =SUM(T13,AQ13,BM13) -> 95 | CJ13: =SUM(U13,AR13,BN13) -> 96 | CK13: =SUM(V13,AS13,BO13) -> 92 | CL13: =SUM(W13,AT13,BP13) -> 48 | CM13: =SUM(X13,AU13,BQ13) -> 49 | CN13: =SUM(Y13,AV13,BR13) -> 45 | CO13: =SUM(Z13,AW13,BS13) -> 0 | CP13: =SUM(AA13,AX13,BT13) -> 0 | ... CZ13: =SUM(AK13,BH13,CD13) -> 27
A14: 334 | B14: Действующая | C14: Минобрнауки России | D14: Ростовская область | E14: ВПО | F14: ФГБОУ ВПО | G14: ФГБОУ ВПО «ЮРГТУ(НПИ)» | H14: Южно-Российский государственный технический университет (Новочеркасский политехнический институт) | I14: федеральное государственное бюджетное образовательное учреждение высшего профессионального образования «Южно-Российский государственный технический университет (Новочеркасский политехнический институт)» | J14: Отправлена на рассмотрение | K14: - | L14: да | M14: да | N14: 32 | O14: 29 | P14: 32 | Q14: "Гуманитарные науки", "Культура и исскуство","Экономика и управление","Геология, разведка и разработка полезных ископаемых","Эенергетика, энергетическое машиностроение и электротехника", "Металлургия, машиностроение и материалообработка", "Транспортные средства", "Электронная техника, радиотехника и связь", "Автоматика и управление", "Информатика и вычислительная техника", "Химическая и биотехнологии", "Технология продовольственныъх продуктов и потребительских товаров", "Архитектура и строительство", "Безопасность жизнедеятельности, природообустройтсво и защита окружающей среды","Социальные науки","Геодезия и землеустройство","Образование и педагогика", "Приборостроение и оптотехника" | R14: "Гуманитарные науки", "Культура и исскуство","Экономика и управление","Геология, разведка и разработка полезных ископаемых","Эенергетика, энергетическое машиностроение и электротехника", "Металлургия, машиностроение и материалообработка", "Транспортные средства", "Электронная техника, радиотехника и связь", "Автоматика и управление", "Информатика и вычислительная техника", "Химическая и биотехнологии", "Технология продовольственныъх продуктов и потребительских товаров", "Архитектура и строительство", "Безопасность жизнедеятельности, природообустройтсво и защита окружающей среды","Социальные науки","Геодезия и землеустройство","Образование и педагогика", "Приборостроение и оптотехника" | S14: "Гуманитарные науки", "Культура и исскуство","Экономика и управление","Геология, разведка и разработка полезных ископаемых","Эенергетика, энергетическое машиностроение и электротехника", "Металлургия, машиностроение и материалообработка", "Транспортные средства", "Электронная техника, радиотехника и связь", "Автоматика и управление", "Информатика и вычислительная техника", "Химическая и биотехнологии", "Технология продовольственныъх продуктов и потребительских товаров", "Архитектура и строительство", "Безопасность жизнедеятельности, природообустройтсво и защита окружающей среды","Социальные науки","Геодезия и землеустройство","Образование и педагогика", "Приборостроение и оптотехника" | T14: 156 | U14: 156 | V14: 156 | W14: 31 | X14: 31 | Y14: 31 | Z14: 0 | AA14: 0 | AB14: 0 | AC14: 2 | AD14: 2 | AE14: 2 | AF14: 29 | AG14: 29 | AH14: 29 | AI14: 2 | AJ14: 2 | AK14: 2 | AL14: Студенты инвалиды и ЛОВЗ обучаются в общем потоке. Университет располагает аудиториями, обеспечивающими частичные условия для получения профессионального образования, а также временного проживания (общежития). | AM14: 5 | AN14: 32 | AO14: 23 | AP14: 20 | AQ14: 109 | AR14: 109 | AS14: 108 | AT14: 17 | AU14: 17 | AV14: 17 | AW14: 0 | AX14: 0 | AY14: 0 | AZ14: 3 | BA14: 3 | BB14: 3 | BC14: 20 | BD14: 20 | BE14: 20 | BF14: 3 | BG14: 3 | BH14: 3 | BI14: 0 | BJ14: 0 | BK14: 0 | BL14: 0 | BM14: 0 | BN14: 0 | BO14: 0 | BP14: 0 | BQ14: 0 | BR14: 0 | BS14: 0 | BT14: 0 | BU14: 0 | BV14: 0 | BW14: 0 | BX14: 0 | BY14: 0 | BZ14: 0 | CA14: 0 | CB14: 0 | CC14: 0 | CD14: 0 | CE14: =SUM(AM14,BI14) -> 5 | CF14: =SUM(N14,AN14,BJ14) -> 64 | CG14: =SUM(O14,AO14,BK14) -> 52 | CH14: =SUM(P14,AP14,BL14) -> 52 | CI14: =SUM(T14,AQ14,BM14) -> 265 | CJ14: =SUM(U14,AR14,BN14) -> 265 | CK14: =SUM(V14,AS14,BO14) -> 264 | CL14: =SUM(W14,AT14,BP14) -> 48 | CM14: =SUM(X14,AU14,BQ14) -> 48 | CN14: =SUM(Y14,AV14,BR14) -> 48 | CO14: =SUM(Z14,AW14,BS14) -> 0 | CP14: =SUM(AA14,AX14,BT14) -> 0 | ... CZ14: =SUM(AK14,BH14,CD14) -> 5
A15: 1143 | B15: Действующая | C15: Минобрнауки России | D15: Москва | E15: ДПО | F15: ФГБОУ ДПО | G15: ФГБОУ ДПО «ГИНФО» | H15: Государственный институт новых форм обучения | I15: федеральное государственное бюджетное образовательное учреждение дополнительного профессионального образования «Государственный институт новых форм обучения» | J15: Отправлена на рассмотрение | K15: - | L15: да | M15: да | N15: 0 | O15: 0 | P15: 0 | Q15: нет | R15: нет | S15: нет | T15: 0 | U15: 0 | V15: 0 | W15: 0 | X15: 0 | Y15: 0 | Z15: 0 | AA15: 0 | AB15: 0 | AC15: 0 | AD15: 0 | AE15: 0 | AF15: 0 | AG15: 0 | AH15: 0 | AI15: 0 | AJ15: 0 | AK15: 0 | AL15: нет | AM15: 0 | AN15: 0 | AO15: 0 | AP15: 0 | AQ15: 0 | AR15: 0 | AS15: 0 | AT15: 0 | AU15: 0 | AV15: 0 | AW15: 0 | AX15: 0 | AY15: 0 | AZ15: 0 | BA15: 0 | BB15: 0 | BC15: 0 | BD15: 0 | BE15: 0 | BF15: 0 | BG15: 0 | BH15: 0 | BI15: 0 | BJ15: 0 | BK15: 0 | BL15: 0 | BM15: 0 | BN15: 0 | BO15: 0 | BP15: 0 | BQ15: 0 | BR15: 0 | BS15: 0 | BT15: 0 | BU15: 0 | BV15: 0 | BW15: 0 | BX15: 0 | BY15: 0 | BZ15: 0 | CA15: 0 | CB15: 0 | CC15: 0 | CD15: 0 | CE15: =SUM(AM15,BI15) -> 0 | CF15: =SUM(N15,AN15,BJ15) -> 0 | CG15: =SUM(O15,AO15,BK15) -> 0 | CH15: =SUM(P15,AP15,BL15) -> 0 | CI15: =SUM(T15,AQ15,BM15) -> 0 | CJ15: =SUM(U15,AR15,BN15) -> 0 | CK15: =SUM(V15,AS15,BO15) -> 0 | CL15: =SUM(W15,AT15,BP15) -> 0 | CM15: =SUM(X15,AU15,BQ15) -> 0 | CN15: =SUM(Y15,AV15,BR15) -> 0 | CO15: =SUM(Z15,AW15,BS15) -> 0 | CP15: =SUM(AA15,AX15,BT15) -> 0 | ... CZ15: =SUM(AK15,BH15,CD15) -> 0
A16: 16 | B16: Действующая | C16: Минобрнауки России | D16: Белгородская область | E16: ВПО | F16: ФГБОУ ВПО | G16: БГТУ им. В.Г.Шухова | H16: Белгородский государственный технологический университет им. В.Г.Шухова | I16: федеральное государственное бюджетное образовательное учреждение высшего профессионального образования «Белгородский государственный технологический университет им. В.Г.Шухова» | J16: Отправлена на рассмотрение | K16: - | L16: да | M16: да | N16: 33 | O16: 40 | P16: 37 | Q16: 270102.65, 120303.65, 270301.65, 280102.65, 140211.65, 140100.62, 140400.62, 080105.65, 080109.65, 080502.65, 151900.62, 151001.65, 260601.65, 220301.65, 220201.65, 230105.65, 231000.62 | R16: 270102.65, 120303.65, 270301.65, 280102.65, 140211.65, 140100.62, 140400.62, 080105.65, 080109.65, 080502.65, 151900.62, 151001.65, 151000.62, 260601.65, 220301.65, 230400.62,231000.62 | S16: 270102.65, 120303.65, 270301.65, 280102.65, 140211.65, 140100.62, 140400.62, 080105.65, 080109.65, 080502.65, 151900.62, 151001.65, 151000.62, 260601.65, 220301.65, 230400.62, 231000.62 270102.65, 270800.62, 120303.65, 270301.65, 280102.65, 140211.65, 140100.62, 140400.62, 080105.65, 080109.65, 080502.65, 080200.62, 080100.62, 151900.62, 151001.65, 151000.62, 260601.65, 220301.65, 230400.62, 231000.62 | T16: 38 | U16: 39 | V16: 39 | W16: 21 | X16: 22 | Y16: 22 | Z16: 0 | AA16: 0 | AB16: 0 | AC16: 4 | AD16: 4 | AE16: 4 | AF16: 17 | AG16: 18 | AH16: 18 | AI16: 21 | AJ16: 22 | AK16: 22 | AM16: 0 | AN16: 0 | AO16: 0 | AP16: 0 | AQ16: 0 | AR16: 0 | AS16: 0 | AT16: 0 | AU16: 0 | AV16: 0 | AW16: 0 | AX16: 0 | AY16: 0 | AZ16: 0 | BA16: 0 | BB16: 0 | BC16: 0 | BD16: 0 | BE16: 0 | BF16: 0 | BG16: 0 | BH16: 0 | BI16: 0 | BJ16: 0 | BK16: 0 | BL16: 0 | BM16: 0 | BN16: 0 | BO16: 0 | BP16: 0 | BQ16: 0 | BR16: 0 | BS16: 0 | BT16: 0 | BU16: 0 | BV16: 0 | BW16: 0 | BX16: 0 | BY16: 0 | BZ16: 0 | CA16: 0 | CB16: 0 | CC16: 0 | CD16: 0 | CE16: =SUM(AM16,BI16) -> 0 | CF16: =SUM(N16,AN16,BJ16) -> 33 | CG16: =SUM(O16,AO16,BK16) -> 40 | CH16: =SUM(P16,AP16,BL16) -> 37 | CI16: =SUM(T16,AQ16,BM16) -> 38 | CJ16: =SUM(U16,AR16,BN16) -> 39 | CK16: =SUM(V16,AS16,BO16) -> 39 | CL16: =SUM(W16,AT16,BP16) -> 21 | CM16: =SUM(X16,AU16,BQ16) -> 22 | CN16: =SUM(Y16,AV16,BR16) -> 22 | CO16: =SUM(Z16,AW16,BS16) -> 0 | CP16: =SUM(AA16,AX16,BT16) -> 0 | ... CZ16: =SUM(AK16,BH16,CD16) -> 22
A17: 19 | B17: Действующая | C17: Минобрнауки России | D17: Алтайский край | E17: ВПО | F17: ФГБОУ ВПО | G17: ФГБОУ ВПО «АГАО» | H17: Алтайская государственная академия образования имени В.М. Шукшина | I17: федеральное государственное бюджетное образовательное учреждение высшего профессионального образования «Алтайская государственная академия образования имени В.М. Шукшина» | J17: Отправлена на рассмотрение | K17: - | L17: да | M17: да | N17: 4 | O17: 3 | P17: 4 | Q17: 050100.62 Педагогическое образование - 3 чел. 050400.62 Психолого-педагогическое образование - 1 чел. | R17: 050100.62 Педагогическое образование - 3 чел. | S17: 050100.62 Педагогическое образование - 4 чел. | T17: 29 | U17: 27 | V17: 27 | W17: 3 | X17: 2 | Y17: 3 | Z17: 0 | AA17: 0 | AB17: 0 | AC17: 0 | AD17: 0 | AE17: 0 | AF17: 3 | AG17: 2 | AH17: 3 | AI17: 0 | AJ17: 0 | AK17: 0 | AM17: 0 | AN17: 0 | AO17: 0 | AP17: 0 | AQ17: 0 | AR17: 0 | AS17: 0 | AT17: 0 | AU17: 0 | AV17: 0 | AW17: 0 | AX17: 0 | AY17: 0 | AZ17: 0 | BA17: 0 | BB17: 0 | BC17: 0 | BD17: 0 | BE17: 0 | BF17: 0 | BG17: 0 | BH17: 0 | BI17: 0 | BJ17: 0 | BK17: 0 | BL17: 0 | BM17: 0 | BN17: 0 | BO17: 0 | BP17: 0 | BQ17: 0 | BR17: 0 | BS17: 0 | BT17: 0 | BU17: 0 | BV17: 0 | BW17: 0 | BX17: 0 | BY17: 0 | BZ17: 0 | CA17: 0 | CB17: 0 | CC17: 0 | CD17: 0 | CE17: =SUM(AM17,BI17) -> 0 | CF17: =SUM(N17,AN17,BJ17) -> 4 | CG17: =SUM(O17,AO17,BK17) -> 3 | CH17: =SUM(P17,AP17,BL17) -> 4 | CI17: =SUM(T17,AQ17,BM17) -> 29 | CJ17: =SUM(U17,AR17,BN17) -> 27 | CK17: =SUM(V17,AS17,BO17) -> 27 | CL17: =SUM(W17,AT17,BP17) -> 3 | CM17: =SUM(X17,AU17,BQ17) -> 2 | CN17: =SUM(Y17,AV17,BR17) -> 3 | CO17: =SUM(Z17,AW17,BS17) -> 0 | CP17: =SUM(AA17,AX17,BT17) -> 0 | ... CZ17: =SUM(AK17,BH17,CD17) -> 0
A18: 34 | B18: Действующая | C18: Минобрнауки России | D18: Волгоградская область | E18: ВПО | F18: ФГБОУ ВПО | G18: ФГБОУ ВПО «ВГСПУ» | H18: Волгоградский государственный социально-педагогический университет | I18: федеральное государственное бюджетное образовательное учреждение высшего профессионального образования «Волгоградский государственный социально-педагогический университет» | J18: Отправлена на рассмотрение | K18: - | L18: да | M18: да | N18: 67 | O18: 65 | P18: 50 | Q18: 050100.62 «Педагогическое образование», 080500 «Менеджмент», 080400.62 «Управление персоналом», 050400.62 «Психолого-педагогическое образование», 100400.62 «Туризм», 100100.62 «Сервис», 050700.62 «Специальное (дефектологическое) образование», 050601 «Музыкальное образование», 050200 «Физико-математическое образование» | R18: 050100.62 «Педагогическое образование», 080500 «Менеджмент», 080400.62 «Управление персоналом», 050400.62 «Психолого-педагогическое образование», 100400.62 «Туризм», 100100.62 «Сервис», 050700.62 «Специальное (дефектологическое) образование», 050601 «Музыкальное образование», 050200 «Физико-математическое образование» | S18: 050100.62 «Педагогическое образование», 080500 «Менеджмент», 080400.62 «Управление персоналом», 050400.62 «Психолого-педагогическое образование», 100400.62 «Туризм», 100100.62 «Сервис», 050700.62 «Специальное (дефектологическое) образование», 050601 «Музыкальное образование», 050200 «Физико-математическое образование» | T18: 11 | U18: 11 | V18: 11 | W18: 3 | X18: 3 | Y18: 3 | Z18: 0 | AA18: 1 | AB18: 1 | AC18: 0 | AD18: 2 | AE18: 2 | AF18: 3 | AG18: 2 | AH18: 2 | AI18: 0 | AJ18: 2 | AK18: 2 | AL18: Разрабатывается проект реконструкции здания университета (общежития), находящегося по адресу: г. Волгоград, ул. Хиросимы, д. 16, направленный на создание условий для времененого проживания инвалидов и ЛОВЗ | AM18: 0 | AN18: 0 | AO18: 0 | AP18: 0 | AQ18: 0 | AR18: 0 | AS18: 0 | AT18: 0 | AU18: 0 | AV18: 0 | AW18: 0 | AX18: 0 | AY18: 0 | AZ18: 0 | BA18: 0 | BB18: 0 | BC18: 0 | BD18: 0 | BE18: 0 | BF18: 0 | BG18: 0 | BH18: 0 | BI18: 0 | BJ18: 0 | BK18: 0 | BL18: 0 | BM18: 0 | BN18: 0 | BO18: 0 | BP18: 0 | BQ18: 0 | BR18: 0 | BS18: 0 | BT18: 0 | BU18: 0 | BV18: 0 | BW18: 0 | BX18: 0 | BY18: 0 | BZ18: 0 | CA18: 0 | CB18: 0 | CC18: 0 | CD18: 0 | CE18: =SUM(AM18,BI18) -> 0 | CF18: =SUM(N18,AN18,BJ18) -> 67 | CG18: =SUM(O18,AO18,BK18) -> 65 | CH18: =SUM(P18,AP18,BL18) -> 50 | CI18: =SUM(T18,AQ18,BM18) -> 11 | CJ18: =SUM(U18,AR18,BN18) -> 11 | CK18: =SUM(V18,AS18,BO18) -> 11 | CL18: =SUM(W18,AT18,BP18) -> 3 | CM18: =SUM(X18,AU18,BQ18) -> 3 | CN18: =SUM(Y18,AV18,BR18) -> 3 | CO18: =SUM(Z18,AW18,BS18) -> 0 | CP18: =SUM(AA18,AX18,BT18) -> 1 | ... CZ18: =SUM(AK18,BH18,CD18) -> 2
A19: 254 | B19: Действующая | C19: Минобрнауки России | D19: Самарская область | E19: ВПО | F19: ФГБОУ ВПО | G19: ФГБОУ ВПО «СГЭУ» | H19: Самарский государственный экономический университет | I19: федеральное государственное бюджетное образовательное учреждение высшего профессионального образования «Самарский государственный экономический университет» | J19: Отправлена на рассмотрение | K19: - | L19: да | M19: да | N19: 9 | O19: 9 | P19: 7 | Q19: Экономика и управление (080000) | R19: Экономика и управление (080000) | S19: Экономика и управление (080000) | T19: 38 | U19: 38 | V19: 38 | W19: 14 | X19: 14 | Y19: 14 | Z19: 0 | AA19: 0 | AB19: 0 | AC19: 0 | AD19: 0 | AE19: 0 | AF19: 38 | AG19: 38 | AH19: 38 | AI19: 8 | AJ19: 8 | AK19: 8 | AM19: 1 | AN19: 0 | AO19: 0 | AP19: 0 | AQ19: 2 | AR19: 2 | AS19: 2 | AT19: 2 | AU19: 2 | AV19: 2 | AW19: 0 | AX19: 0 | AY19: 0 | AZ19: 0 | BA19: 0 | BB19: 0 | BC19: 2 | BD19: 2 | BE19: 2 | BF19: 0 | BG19: 0 | BH19: 0 | BI19: 0 | BJ19: 0 | BK19: 0 | BL19: 0 | BM19: 0 | BN19: 0 | BO19: 0 | BP19: 0 | BQ19: 0 | BR19: 0 | BS19: 0 | BT19: 0 | BU19: 0 | BV19: 0 | BW19: 0 | BX19: 0 | BY19: 0 | BZ19: 0 | CA19: 0 | CB19: 0 | CC19: 0 | CD19: 0 | CE19: =SUM(AM19,BI19) -> 1 | CF19: =SUM(N19,AN19,BJ19) -> 9 | CG19: =SUM(O19,AO19,BK19) -> 9 | CH19: =SUM(P19,AP19,BL19) -> 7 | CI19: =SUM(T19,AQ19,BM19) -> 40 | CJ19: =SUM(U19,AR19,BN19) -> 40 | CK19: =SUM(V19,AS19,BO19) -> 40 | CL19: =SUM(W19,AT19,BP19) -> 16 | CM19: =SUM(X19,AU19,BQ19) -> 16 | CN19: =SUM(Y19,AV19,BR19) -> 16 | CO19: =SUM(Z19,AW19,BS19) -> 0 | CP19: =SUM(AA19,AX19,BT19) -> 0 | ... CZ19: =SUM(AK19,BH19,CD19) -> 8
A20: 59 | B20: Действующая | C20: Минобрнауки России | D20: Москва | E20: ВПО | F20: ФГАОУ ВПО | G20: НИТУ «МИСиС» | H20: Национальный исследовательский технологический университет «МИСиС» | I20: федеральное государственное автономное образовательное учреждение высшего профессионального образования «Национальный исследовательский технологический университет «МИСиС» | J20: - | K20: - | L20: да | M20: нет | N20: - | O20: - | P20: - | Q20: - | R20: - | S20: - | T20: - | U20: - | V20: - | W20: - | X20: - | Y20: - | Z20: - | AA20: - | AB20: - | AC20: - | AD20: - | AE20: - | AF20: - | AG20: - | AH20: - | AI20: - | AJ20: - | AK20: - | AL20: - | AM20: - | AN20: - | AO20: - | AP20: - | AQ20: - | AR20: - | AS20: - | AT20: - | AU20: - | AV20: - | AW20: - | AX20: - | AY20: - | AZ20: - | BA20: - | BB20: - | BC20: - | BD20: - | BE20: - | BF20: - | BG20: - | BH20: - | BI20: - | BJ20: - | BK20: - | BL20: - | BM20: - | BN20: - | BO20: - | BP20: - | BQ20: - | BR20: - | BS20: - | BT20: - | BU20: - | BV20: - | BW20: - | BX20: - | BY20: - | BZ20: - | CA20: - | CB20: - | CC20: - | CD20: - | CE20: =SUM(AM20,BI20) -> 0 | CF20: =SUM(N20,AN20,BJ20) -> 0 | CG20: =SUM(O20,AO20,BK20) -> 0 | CH20: =SUM(P20,AP20,BL20) -> 0 | CI20: =SUM(T20,AQ20,BM20) -> 0 | CJ20: =SUM(U20,AR20,BN20) -> 0 | CK20: =SUM(V20,AS20,BO20) -> 0 | CL20: =SUM(W20,AT20,BP20) -> 0 | CM20: =SUM(X20,AU20,BQ20) -> 0 | CN20: =SUM(Y20,AV20,BR20) -> 0 | CO20: =SUM(Z20,AW20,BS20) -> 0 | CP20: =SUM(AA20,AX20,BT20) -> 0 | ... CZ20: =SUM(AK20,BH20,CD20) -> 0
A21: 53 | B21: Действующая | C21: Минобрнауки России | D21: Республика Алтай | E21: ВПО | F21: ФГБОУ ВПО | G21: ГАГУ | H21: Горно-Алтайский государственный университет | I21: федеральное государственное бюджетное образовательное учреждение высшего профессионального образования «Горно-Алтайский государственный университет» | J21: Отправлена на рассмотрение | K21: - | L21: да | M21: да | N21: 20 | O21: 19 | P21: 23 | Q21: 01 Физико-математические науки, 02 Естественные науки, 03 Гуманитарные науки, 08 Экономика и управление, 10 Сфера обслуживания | R21: 01 Физико-математические науки, 02 Естественные науки, 03 Гуманитарные науки, 05 Образование и педагогика, 08 Экономика и управление, 10 Сфера обслуживания, 11 Сельское и рыбное хозяйство | S21: 01 Физико-математические науки, 02 Естественные науки, 03 Гуманитарные науки, 05 Образование и педагогика, 08 Экономика и управление, 11 Сельское и рыбное хозяйство | T21: 31 | U21: 32 | V21: 31 | W21: 16 | X21: 16 | Y21: 16 | Z21: 0 | AA21: 0 | AB21: 0 | AC21: 0 | AD21: 0 | AE21: 0 | AF21: 0 | AG21: 0 | AH21: 0 | AI21: 9 | AJ21: 9 | AK21: 9 | AM21: 0 | AN21: 0 | AO21: 0 | AP21: 0 | AQ21: 0 | AR21: 0 | AS21: 0 | AT21: 0 | AU21: 0 | AV21: 0 | AW21: 0 | AX21: 0 | AY21: 0 | AZ21: 0 | BA21: 0 | BB21: 0 | BC21: 0 | BD21: 0 | BE21: 0 | BF21: 0 | BG21: 0 | BH21: 0 | BI21: 0 | BJ21: 0 | BK21: 0 | BL21: 0 | BM21: 0 | BN21: 0 | BO21: 0 | BP21: 0 | BQ21: 0 | BR21: 0 | BS21: 0 | BT21: 0 | BU21: 0 | BV21: 0 | BW21: 0 | BX21: 0 | BY21: 0 | BZ21: 0 | CA21: 0 | CB21: 0 | CC21: 0 | CD21: 0 | CE21: =SUM(AM21,BI21) -> 0 | CF21: =SUM(N21,AN21,BJ21) -> 20 | CG21: =SUM(O21,AO21,BK21) -> 19 | CH21: =SUM(P21,AP21,BL21) -> 23 | CI21: =SUM(T21,AQ21,BM21) -> 31 | CJ21: =SUM(U21,AR21,BN21) -> 32 | CK21: =SUM(V21,AS21,BO21) -> 31 | CL21: =SUM(W21,AT21,BP21) -> 16 | CM21: =SUM(X21,AU21,BQ21) -> 16 | CN21: =SUM(Y21,AV21,BR21) -> 16 | CO21: =SUM(Z21,AW21,BS21) -> 0 | CP21: =SUM(AA21,AX21,BT21) -> 0 | ... CZ21: =SUM(AK21,BH21,CD21) -> 9
A22: 54 | B22: Действующая | C22: Минобрнауки России | D22: Москва | E22: ВПО | F22: ФГБОУ ВПО | G22: ФГБОУ ВПО «ГАСК» | H22: Государственная академия славянской культуры | I22: федеральное государственное бюджетное образовательное учреждение высшего профессионального образования «Государственная академия славянской культуры» | J22: - | K22: - | L22: да | M22: нет | N22: - | O22: - | P22: - | Q22: - | R22: - | S22: - | T22: - | U22: - | V22: - | W22: - | X22: - | Y22: - | Z22: - | AA22: - | AB22: - | AC22: - | AD22: - | AE22: - | AF22: - | AG22: - | AH22: - | AI22: - | AJ22: - | AK22: - | AL22: - | AM22: - | AN22: - | AO22: - | AP22: - | AQ22: - | AR22: - | AS22: - | AT22: - | AU22: - | AV22: - | AW22: - | AX22: - | AY22: - | AZ22: - | BA22: - | BB22: - | BC22: - | BD22: - | BE22: - | BF22: - | BG22: - | BH22: - | BI22: - | BJ22: - | BK22: - | BL22: - | BM22: - | BN22: - | BO22: - | BP22: - | BQ22: - | BR22: - | BS22: - | BT22: - | BU22: - | BV22: - | BW22: - | BX22: - | BY22: - | BZ22: - | CA22: - | CB22: - | CC22: - | CD22: - | CE22: =SUM(AM22,BI22) -> 0 | CF22: =SUM(N22,AN22,BJ22) -> 0 | CG22: =SUM(O22,AO22,BK22) -> 0 | CH22: =SUM(P22,AP22,BL22) -> 0 | CI22: =SUM(T22,AQ22,BM22) -> 0 | CJ22: =SUM(U22,AR22,BN22) -> 0 | CK22: =SUM(V22,AS22,BO22) -> 0 | CL22: =SUM(W22,AT22,BP22) -> 0 | CM22: =SUM(X22,AU22,BQ22) -> 0 | CN22: =SUM(Y22,AV22,BR22) -> 0 | CO22: =SUM(Z22,AW22,BS22) -> 0 | CP22: =SUM(AA22,AX22,BT22) -> 0 | ... CZ22: =SUM(AK22,BH22,CD22) -> 0
A23: 144 | B23: Действующая | C23: Минобрнауки России | D23: Москва | E23: ВПО | F23: ФГБОУ ВПО | G23: ФГБОУ ВПО «МГСУ» | H23: Московский государственный строительный университет | I23: федеральное государственное бюджетное образовательное учреждение высшего профессионального образования «Московский государственный строительный университет» | J23: Отправлена на рассмотрение | K23: - | L23: да | M23: да | N23: 36 | O23: 31 | P23: 28 | Q23: Экономика, Менеджмент, Строительство | R23: Экономика, Менеджмент, Строительство | S23: Экономика, Менеджмент, Строительство | T23: 72 | U23: 72 | V23: 72 | W23: 19 | X23: 19 | Y23: 19 | Z23: 0 | AA23: 0 | AB23: 0 | AC23: 5 | AD23: 5 | AE23: 5 | AF23: 14 | AG23: 14 | AH23: 14 | AI23: 19 | AJ23: 19 | AK23: 19 | AL23: Сведения представлены с учетом возможности нахождения в зданиях обучающихся с соматическими заболеваниями | AM23: 2 | AN23: 1 | AO23: 2 | AP23: 1 | AQ23: 31 | AR23: 40 | AS23: 40 | AT23: 17 | AU23: 24 | AV23: 24 | AW23: 0 | AX23: 0 | AY23: 0 | AZ23: 0 | BA23: 0 | BB23: 0 | BC23: 17 | BD23: 24 | BE23: 24 | BF23: 17 | BG23: 24 | BH23: 24 | BI23: 2 | BJ23: 0 | BK23: 0 | BL23: 0 | BM23: 2 | BN23: 2 | BO23: 2 | BP23: 0 | BQ23: 0 | BR23: 0 | BS23: 0 | BT23: 0 | BU23: 0 | BV23: 0 | BW23: 0 | BX23: 0 | BY23: 0 | BZ23: 0 | CA23: 0 | CB23: 0 | CC23: 0 | CD23: 0 | CE23: =SUM(AM23,BI23) -> 4 | CF23: =SUM(N23,AN23,BJ23) -> 37 | CG23: =SUM(O23,AO23,BK23) -> 33 | CH23: =SUM(P23,AP23,BL23) -> 29 | CI23: =SUM(T23,AQ23,BM23) -> 105 | CJ23: =SUM(U23,AR23,BN23) -> 114 | CK23: =SUM(V23,AS23,BO23) -> 114 | CL23: =SUM(W23,AT23,BP23) -> 36 | CM23: =SUM(X23,AU23,BQ23) -> 43 | CN23: =SUM(Y23,AV23,BR23) -> 43 | CO23: =SUM(Z23,AW23,BS23) -> 0 | CP23: =SUM(AA23,AX23,BT23) -> 0 | ... CZ23: =SUM(AK23,BH23,CD23) -> 43
A24: 60 | B24: Действующая | C24: Минобрнауки России | D24: Москва | E24: ВПО | F24: ФГБОУ ВПО | G24: ГУУ | H24: Государственный университет управления | I24: федеральное государственное бюджетное образовательное учреждение высшего профессионального образования «Государственный университет управления» | J24: Отправлена на рассмотрение | K24: - | L24: да | M24: да | N24: 74 | O24: 89 | P24: 79 | Q24: Юриспруденция Реклама и связи с общественностью Документоведение и архивоведение Экономика Менеджмент Государственное и муниципальное управление Прикладная математика и информатика Мировая экономика Финансы и кредит Налоги и налогообложение Маркетинг Управление персоналом Управление инновациями | R24: Юриспруденция Реклама и связи с общественностью Документоведение и архивоведение Экономика Менеджмент Государственное и муниципальное управление Прикладная математика и информатика Мировая экономика Финансы и кредит Налоги и налогообложение Маркетинг Управление персоналом Управление инновациями | S24: Юриспруденция Реклама и связи с общественностью Документоведение и архивоведение Экономика Менеджмент Государственное и муниципальное управление Прикладная математика и информатика Мировая экономика Финансы и кредит Налоги и налогообложение Маркетинг Управление персоналом Управление инновациями | T24: 9 | U24: 9 | V24: 10 | W24: 8 | X24: 8 | Y24: 9 | Z24: 4 | AA24: 4 | AB24: 5 | AC24: 2 | AD24: 2 | AE24: 2 | AF24: 2 | AG24: 2 | AH24: 2 | AI24: 8 | AJ24: 8 | AK24: 9 | AL24: - | AM24: 1 | AN24: 0 | AO24: 0 | AP24: 0 | AQ24: 3 | AR24: 3 | AS24: 3 | AT24: 2 | AU24: 2 | AV24: 2 | AW24: 1 | AX24: 1 | AY24: 1 | AZ24: 1 | BA24: 1 | BB24: 1 | BC24: 0 | BD24: 0 | BE24: 0 | BF24: 2 | BG24: 2 | BH24: 2 | BI24: 0 | BJ24: 0 | BK24: 0 | BL24: 0 | BM24: 0 | BN24: 0 | BO24: 0 | BP24: 0 | BQ24: 0 | BR24: 0 | BS24: 0 | BT24: 0 | BU24: 0 | BV24: 0 | BW24: 0 | BX24: 0 | BY24: 0 | BZ24: 0 | CA24: 0 | CB24: 0 | CC24: 0 | CD24: 0 | CE24: =SUM(AM24,BI24) -> 1 | CF24: =SUM(N24,AN24,BJ24) -> 74 | CG24: =SUM(O24,AO24,BK24) -> 89 | CH24: =SUM(P24,AP24,BL24) -> 79 | CI24: =SUM(T24,AQ24,BM24) -> 12 | CJ24: =SUM(U24,AR24,BN24) -> 12 | CK24: =SUM(V24,AS24,BO24) -> 13 | CL24: =SUM(W24,AT24,BP24) -> 10 | CM24: =SUM(X24,AU24,BQ24) -> 10 | CN24: =SUM(Y24,AV24,BR24) -> 11 | CO24: =SUM(Z24,AW24,BS24) -> 5 | CP24: =SUM(AA24,AX24,BT24) -> 5 | ... CZ24: =SUM(AK24,BH24,CD24) -> 11
A25: 63 | B25: Действующая | C25: Минобрнауки России | D25: Республика Дагестан | E25: ВПО | F25: ФГБОУ ВПО | G25: ФГБОУ ВПО «ДГТУ» | H25: Дагестанский государственный технический университет | I25: федеральное государственное бюджетное образовательное учреждение высшего профессионального образования «Дагестанский государственный технический университет» | J25: Отправлена на рассмотрение | K25: - | L25: да | M25: да | N25: 87 | O25: 80 | P25: 73 | Q25: 230000 - Информационная и вычислительная техника, 270000 - Архитектура и строительство, 030000 - Гуманитарные науки, 080000 - Экономика и управление, 100000 - Сфера обслуживания, 190000 - Транспортные средства, 240000 - Химическая и биотехнологии, 260000 - Технология продовольственных продуктов и потребительских товаров, 130000 - Геология, разведка и разработка полезных ископаемых, 140000 - Энергетика, энергетическое машиностроение и электротехника, 220000 - Автоматика и управление | R25: 230000 - Информационная и вычислительная техника, 270000 - Архитектура и строительство, 030000 - Гуманитарные науки, 080000 - Экономика и управление, 100000 - Сфера обслуживания, 190000 - Транспортные средства, 240000 - Химическая и биотехнологии, 260000 - Технология продовольственных продуктов и потребительских товаров, 130000 - Геология, разведка и разработка полезных ископаемых, 140000 - Энергетика, энергетическое машиностроение и электротехника, 220000 - Автоматика и управление, 280000 - Безопасность жизнедеятельности, природообустройство и защита окружающей среды | S25: 230000 - Информационная и вычислительная техника, 270000 - Архитектура и строительство, 030000 - Гуманитарные науки, 080000 - Экономика и управление, 100000 - Сфера обслуживания, 240000 - Химическая и биотехнологии, 260000 - Технология продовольственных продуктов и потребительских товаров, 130000 - Геология, разведка и разработка полезных ископаемых, 140000 - Энергетика, энергетическое машиностроение и электротехника, 220000 - Автоматика и управление, 280000 - Безопасность жизнедеятельности, природообустройство и защита окружающей среды | T25: 26 | U25: 26 | V25: 28 | W25: 14 | X25: 14 | Y25: 15 | Z25: 5 | AA25: 5 | AB25: 6 | AC25: 14 | AD25: 14 | AE25: 15 | AF25: 0 | AG25: 0 | AH25: 0 | AI25: 10 | AJ25: 11 | AK25: 13 | AM25: 3 | AN25: 5 | AO25: 3 | AP25: 3 | AQ25: 10 | AR25: 10 | AS25: 12 | AT25: 8 | AU25: 8 | AV25: 9 | AW25: 4 | AX25: 4 | AY25: 6 | AZ25: 10 | BA25: 10 | BB25: 12 | BC25: 0 | BD25: 0 | BE25: 0 | BF25: 8 | BG25: 8 | BH25: 10 | BI25: 0 | BJ25: 0 | BK25: 0 | BL25: 0 | BM25: 0 | BN25: 0 | BO25: 0 | BP25: 0 | BQ25: 0 | BR25: 0 | BS25: 0 | BT25: 0 | BU25: 0 | BV25: 0 | BW25: 0 | BX25: 0 | BY25: 0 | BZ25: 0 | CA25: 0 | CB25: 0 | CC25: 0 | CD25: 0 | CE25: =SUM(AM25,BI25) -> 3 | CF25: =SUM(N25,AN25,BJ25) -> 92 | CG25: =SUM(O25,AO25,BK25) -> 83 | CH25: =SUM(P25,AP25,BL25) -> 76 | CI25: =SUM(T25,AQ25,BM25) -> 36 | CJ25: =SUM(U25,AR25,BN25) -> 36 | CK25: =SUM(V25,AS25,BO25) -> 40 | CL25: =SUM(W25,AT25,BP25) -> 22 | CM25: =SUM(X25,AU25,BQ25) -> 22 | CN25: =SUM(Y25,AV25,BR25) -> 24 | CO25: =SUM(Z25,AW25,BS25) -> 9 | CP25: =SUM(AA25,AX25,BT25) -> 9 | ... CZ25: =SUM(AK25,BH25,CD25) -> 23
A26: 67 | B26: Действующая | C26: Минобрнауки России | D26: Хабаровский край | E26: ВПО | F26: ФГБОУ ВПО | G26: ДВГГУ | H26: Дальневосточный государственный гуманитарный университет | I26: федеральное государственное бюджетное образовательное учреждение высшего профессионального образования «Дальневосточный государственный гуманитарный университет» | J26: Отправлена на рассмотрение | K26: - | L26: да | M26: да | N26: 4 | O26: 16 | P26: 14 | Q26: 03.0000 Гуманитарные науки - 035700.62 Лингвистика, 031202.65 Перевод и переводоведение, 030301.65 Психология, | R26: 03.0000 Гуманитарные науки - 035700.62 Лингвистика, 031202.65 Перевод и переводоведение, 030602.65 Связи с общественностью, 030301.65 Психология; 04.0000 Социальные науки - 040101.65 Социальная работа; 05.0000 Образование и педагогика - 050716.65 Специальная психология, 050715.65 Логопедия, 050707.65 Педагогика и методика дошкольного образования; 07.0000 Культура и искусство - 07500.62 Дизайн, 070601.65 Дизайн. | S26: 03.0000 Гуманитарные науки - 035700.62 Лингвистика, 031202.65 Перевод и переводоведение, 030602.65 Связи с общественностью, 030301.65 Психология; 04.0000 Социальные науки - 040101.65 Социальная работа; 05.0000 Образование и педагогика - 050100.62 Педагогическое образование История, 050716.65 Специальная психология, 050715.65 Логопедия, 050707.65 Педагогика и методика дошкольного образования; 07.0000 Культура и искусство - 07500.62 Дизайн, 070601.65 Дизайн. | T26: 17 | U26: 17 | V26: 17 | W26: 12 | X26: 12 | Y26: 12 | Z26: 0 | AA26: 0 | AB26: 0 | AC26: 12 | AD26: 12 | AE26: 12 | AF26: 12 | AG26: 12 | AH26: 12 | AI26: 0 | AJ26: 0 | AK26: 0 | AM26: 0 | AN26: 0 | AO26: 0 | AP26: 0 | AQ26: 0 | AR26: 0 | AS26: 0 | AT26: 0 | AU26: 0 | AV26: 0 | AW26: 0 | AX26: 0 | AY26: 0 | AZ26: 0 | BA26: 0 | BB26: 0 | BC26: 0 | BD26: 0 | BE26: 0 | BF26: 0 | BG26: 0 | BH26: 0 | BI26: 0 | BJ26: 0 | BK26: 0 | BL26: 0 | BM26: 0 | BN26: 0 | BO26: 0 | BP26: 0 | BQ26: 0 | BR26: 0 | BS26: 0 | BT26: 0 | BU26: 0 | BV26: 0 | BW26: 0 | BX26: 0 | BY26: 0 | BZ26: 0 | CA26: 0 | CB26: 0 | CC26: 0 | CD26: 0 | CE26: =SUM(AM26,BI26) -> 0 | CF26: =SUM(N26,AN26,BJ26) -> 4 | CG26: =SUM(O26,AO26,BK26) -> 16 | CH26: =SUM(P26,AP26,BL26) -> 14 | CI26: =SUM(T26,AQ26,BM26) -> 17 | CJ26: =SUM(U26,AR26,BN26) -> 17 | CK26: =SUM(V26,AS26,BO26) -> 17 | CL26: =SUM(W26,AT26,BP26) -> 12 | CM26: =SUM(X26,AU26,BQ26) -> 12 | CN26: =SUM(Y26,AV26,BR26) -> 12 | CO26: =SUM(Z26,AW26,BS26) -> 0 | CP26: =SUM(AA26,AX26,BT26) -> 0 | ... CZ26: =SUM(AK26,BH26,CD26) -> 0
A27: 230 | B27: Действующая | C27: Минобрнауки России | D27: Рязанская область | E27: ВПО | F27: ФГБОУ ВПО | G27: ФГБОУ ВПО «РГРТУ» | H27: Рязанский государственный радиотехнический университет | I27: федеральное государственное бюджетное образовательное учреждение высшего профессионального образования «Рязанский государственный радиотехнический университет» | J27: Отправлена на рассмотрение | K27: - | L27: да | M27: да | N27: 16 | O27: 23 | P27: 20 | Q27: Количество обучающихся - 16 чел. По специальностям: 080000 "Экономика и управление", 210000 "Электронная техника, радиотехника и связь", 090000 "Информационная безопасность", 040000 "Социальные науки", 200000 "Приборостроение и оптотехника", 220000 "Автоматика и управление", 230000 "Информатика и вычислительная техника". | R27: Количество обучающихся - 23 чел. По специальностям: 080000 "Экономика и управление", 210000 "Электронная техника, радиотехника и связь", 090000 "Информационная безопасность", 040000 "Социальные науки", 200000 "Приборостроение и оптотехника", 220000 "Автоматика и управление", 230000 "Информатика и вычислительная техника", 010000 "Физико-математические науки". | S27: Количество обучающихся - 20 чел. По специальностям: 080000 "Экономика и управление", 210000 "Электронная техника, радиотехника и связь", 090000 "Информационная безопасность", 040000 "Социальные науки", 220000 "Автоматика и управление", 230000 "Информатика и вычислительная техника", 010000 "Физико-математические науки". | T27: 48 | U27: 51 | V27: 51 | W27: 11 | X27: 13 | Y27: 13 | Z27: 2 | AA27: 4 | AB27: 4 | AC27: 0 | AD27: 1 | AE27: 1 | AF27: 9 | AG27: 8 | AH27: 8 | AI27: 11 | AJ27: 13 | AK27: 13 | AL27: 0 | AM27: 1 | AN27: 0 | AO27: 0 | AP27: 0 | AQ27: 0 | AR27: 0 | AS27: 0 | AT27: 0 | AU27: 0 | AV27: 0 | AW27: 0 | AX27: 0 | AY27: 0 | AZ27: 0 | BA27: 0 | BB27: 0 | BC27: 0 | BD27: 0 | BE27: 0 | BF27: 0 | BG27: 0 | BH27: 0 | BI27: 0 | BJ27: 0 | BK27: 0 | BL27: 0 | BM27: 0 | BN27: 0 | BO27: 0 | BP27: 0 | BQ27: 0 | BR27: 0 | BS27: 0 | BT27: 0 | BU27: 0 | BV27: 0 | BW27: 0 | BX27: 0 | BY27: 0 | BZ27: 0 | CA27: 0 | CB27: 0 | CC27: 0 | CD27: 0 | CE27: =SUM(AM27,BI27) -> 1 | CF27: =SUM(N27,AN27,BJ27) -> 16 | CG27: =SUM(O27,AO27,BK27) -> 23 | CH27: =SUM(P27,AP27,BL27) -> 20 | CI27: =SUM(T27,AQ27,BM27) -> 48 | CJ27: =SUM(U27,AR27,BN27) -> 51 | CK27: =SUM(V27,AS27,BO27) -> 51 | CL27: =SUM(W27,AT27,BP27) -> 11 | CM27: =SUM(X27,AU27,BQ27) -> 13 | CN27: =SUM(Y27,AV27,BR27) -> 13 | CO27: =SUM(Z27,AW27,BS27) -> 2 | CP27: =SUM(AA27,AX27,BT27) -> 4 | ... CZ27: =SUM(AK27,BH27,CD27) -> 13
A28: 266 | B28: Действующая | C28: Минобрнауки России | D28: Ставропольский край | E28: ВПО | F28: ФГАОУ ВПО | G28: СКФУ | H28: Северо-Кавказский федеральный университет | I28: федеральное государственное автономное образовательное учреждение высшего профессионального образования «Северо-Кавказский федеральный университет» | J28: Отправлена на рассмотрение | K28: - | L28: да | M28: да | N28: 25 | O28: 32 | P28: 62 | Q28: 010000 - Физико-математические науки, 020000 - Естественные науки, 030000 - Гуманитарные науки, 040000 - Социальные науки, 050000 - Образование и педагогика, 060000 - Здравоохранение, 070000 - Культура и искусство, 080000 - Экономика и управление, 090000 - Информационная безопасность, 120000 - Геодезия и землеустройство, 130000 - Геология, разведка и разработка полезных ископаемых, 140000 - Энергетика, энергетическое машиностроение и электротехника, 270000 - Архитектура и строительство. | R28: 010000 - Физико-математические науки, 020000 - Естественные науки, 030000 - Гуманитарные науки, 040000 - Социальные науки, 050000 - Образование и педагогика, 060000 - Здравоохранение, 070000 - Культура и искусство, 080000 - Экономика и управление, 090000 - Информационная безопасность, 120000 - Геодезия и землеустройство, 130000 - Геология, разведка и разработка полезных ископаемых, 140000 - Энергетика, энергетическое машиностроение и электротехника, 270000 - Архитектура и строительство. | S28: 010000 - Физико-математические науки, 020000 - Естественные науки, 030000 - Гуманитарные науки, 040000 - Социальные науки, 050000 - Образование и педагогика, 060000 - Здравоохранение, 070000 - Культура и искусство, 080000 - Экономика и управление, 090000 - Информационная безопасность, 120000 - Геодезия и землеустройство, 130000 - Геология, разведка и разработка полезных ископаемых, 140000 - Энергетика, энергетическое машиностроение и электротехника, 270000 - Архитектура и строительство. | T28: 0 | U28: 67 | V28: 68 | W28: 0 | X28: 33 | Y28: 34 | Z28: 0 | AA28: 2 | AB28: 3 | AC28: 0 | AD28: 5 | AE28: 5 | AF28: 0 | AG28: 26 | AH28: 26 | AI28: 0 | AJ28: 0 | AK28: 0 | AL28: Информация за 2011 год не представлена в связи с тем, что Северо-Кавказский федеральный университет образован распоряженим Правительства Российской Федерации №226-р от 22.02.2012 г. | AM28: 6 | AN28: 0 | AO28: 0 | AP28: 35 | AQ28: 0 | AR28: 53 | AS28: 48 | AT28: 0 | AU28: 35 | AV28: 30 | AW28: 0 | AX28: 0 | AY28: 0 | AZ28: 0 | BA28: 0 | BB28: 0 | BC28: 0 | BD28: 35 | BE28: 30 | BF28: 0 | BG28: 0 | BH28: 0 | BI28: 5 | BJ28: 0 | BK28: 0 | BL28: 0 | BM28: 0 | BN28: 0 | BO28: 0 | BP28: 0 | BQ28: 0 | BR28: 0 | BS28: 0 | BT28: 0 | BU28: 0 | BV28: 0 | BW28: 0 | BX28: 0 | BY28: 0 | BZ28: 0 | CA28: 0 | CB28: 0 | CC28: 0 | CD28: 0 | CE28: =SUM(AM28,BI28) -> 11 | CF28: =SUM(N28,AN28,BJ28) -> 25 | CG28: =SUM(O28,AO28,BK28) -> 32 | CH28: =SUM(P28,AP28,BL28) -> 97 | CI28: =SUM(T28,AQ28,BM28) -> 0 | CJ28: =SUM(U28,AR28,BN28) -> 120 | CK28: =SUM(V28,AS28,BO28) -> 116 | CL28: =SUM(W28,AT28,BP28) -> 0 | CM28: =SUM(X28,AU28,BQ28) -> 68 | CN28: =SUM(Y28,AV28,BR28) -> 64 | CO28: =SUM(Z28,AW28,BS28) -> 0 | CP28: =SUM(AA28,AX28,BT28) -> 2 | ... CZ28: =SUM(AK28,BH28,CD28) -> 0
