Workbook
Name Data_Adr: Флак!$J$2:$M$7
Name data_r_1: 'Раздел 1'!$O$20:$P$61
Name data_r_2: 'Раздел 2'!$O$20:$AA$66
Name data_r_3: 'Раздел 3'!$O$20:$U$52
Name data_r_4: 'Раздел 4'!$O$20:$T$59
Name data_r_5: 'Раздел 5'!$O$20:$P$88
Name data_r_6: 'Раздел 6'!$O$20:$P$41
Name P_1: 'Титульный лист'!$X$29
Name P_2: 'Титульный лист'!$X$30
Name P_3: 'Титульный лист'!$A$38
Name P_4: 'Титульный лист'!$V$38
Name P_5: 'Титульный лист'!$AP$38
Name P_6: 'Титульный лист'!$BJ$38
Name R_1: 'Раздел 6'!$E$46
Name R_2: 'Раздел 6'!$I$46
Name R_3: 'Раздел 6'!$E$49
Name R_4: 'Раздел 6'!$I$49
Name razdel_01: 'Раздел 1'!$P$20:$P$61
Name razdel_02: 'Раздел 2'!$P$20:$AA$66
Name razdel_03: 'Раздел 3'!$P$20:$U$52
Name razdel_04: 'Раздел 4'!$P$20:$T$59
Name razdel_05: 'Раздел 5'!$P$20:$P$88
Name razdel_06: 'Раздел 6'!$P$20:$P$41
Name T_Check: Флак!$A$2:$H$1115
Name Verificationcheck: Флак!$O$3:$P$4
Name ws: '[1]Титульный лист'!$X$29
Name Year: 'Титульный лист'!$AO$20

Sheet Титульный лист
H11: ФЕДЕРАЛЬНОЕ СТАТИСТИЧЕСКОЕ НАБЛЮДЕНИЕ
H13: КОНФИДЕНЦИАЛЬНОСТЬ ГАРАНТИРУЕТСЯ ПОЛУЧАТЕЛЕМ ИНФОРМАЦИИ
E15: Нарушение порядка представления статистической информации, а равно представление недостоверной статистической информации влечет ответственность, установленную статьей 13.19 Кодекса Российской Федерации об административных правонарушениях от 30.12.2001 № 195-ФЗ, а также статьей 3 Закона Российской Федерации от 13.05.92 № 2761-1 “Об ответственности за нарушение порядка представления государственной статистической отчетности”
K17: ВОЗМОЖНО ПРЕДОСТАВЛЕНИЕ В ЭЛЕКТРОННОМ ВИДЕ
K19: СВЕДЕНИЯ О ВЫЯВЛЕНИИ И УСТРОЙСТВЕ ДЕТЕЙ-СИРОТ И ДЕТЕЙ, ОСТАВШИХСЯ БЕЗ ПОПЕЧЕНИЯ РОДИТЕЛЕЙ
K20: за | AO20: 2014 | AR20: год
A22: Предоставляют: | AV22: Сроки предоставления | BO22: Форма № 103-рик
A23: орган местного самоуправления, на который возложены функции по осуществлению опеки и попечительства над несовершеннолетними гражданами, сводный отчет по муниципальному образованию: | AV23: 15 января после отчетного периода | BL23: Приказ Росстата: Об утверждении формы от 27.08.2013 № 344 О внесении изменений (при наличии) от ___________ № ____ от ___________ № ____
A24: - органу исполнительной власти субъекта Российской Федерации, на который возложены функции по осуществлению опеки и попечительства над несовершеннолетними гражданами
A25: орган исполнительной власти субъекта Российской Федерации, на который возложены функции по осуществлению опеки и попечительства над несовершеннолетними гражданами, сводный отчет по субъекту Российской Федерации: | AV25: 5 февраля после отчетного периода
A26: - Минобрнауки России | BO26: Годовая
A29: Наименование отчитывающейся организации | X29: Российская Федерация
A30: Почтовый адрес
A31: Код формы по ОКУД | V31: Код
V32: отчитывающейся организации по ОКПО
A37: 1 | V37: 2 | AP37: 3 | BJ37: 4
A38: 609542

Sheet Раздел 1
A17: Раздел 1. Учет и устройство детей в возрасте до 18 лет, оставшихся без попечения родителей
A18: Код по ОКЕИ: человек - 792
A19: Наименование | O19: № строки | P19: Всего
A20: 1 | O20: 2 | P20: 3
A21: Численность детей, оставшихся неустроенными к началу отчетного года | O21: 1 | P21: 3541
A22: Численность детей, выявленных и учтенных за отчетный год | O22: 2 | P22: 61621
A23: из них (из стр. 02): детей-сирот | O23: 3 | P23: 12549
A24: в возрасте до 7 лет | O24: 4 | P24: 27063
A25: девочек (девушек) | O25: 5 | P25: 27733
A26: Всего детей выявлено и учтено на конец отчетного года (стр. 01 + стр. 02) | O26: 6 | P26: 65162
A27: из них (из стр. 06) устроены: под надзор: в образовательные организации | O27: 7 | P27: 5617
A28: в медицинские организации | O28: 8 | P28: 5005
A29: в организации, оказывающие социальные услуги | O29: 9 | P29: 1430
A30: в негосударственные учреждения | O30: 10 | P30: 41
A31: в детские дома семейного типа | O31: 11 | P31: 5
A32: под предварительную опеку (попечительство) | O32: 12 | P32: 19631
... A61: из них (из стр. 40) устроены | O61: 41 | P61: 4587

Sheet Раздел 2
A14: Раздел 2. Движение численности детей в возрасте до 18 лет, находящихся на воспитании в семьях, за 2014 год
A15: Коды по ОКЕИ: единица - 642, человек – 792
O16: № строки | P16: Опекаемые (подопечные) (чел) | Y16: Усыновленные (кроме усыновленных отчимами и мачехами) (чел)
P17: Всего | Q17: из них (из гр. 3): | Y17: Всего | Z17: из них (из гр.12) иностран- ными гражданами | AA17: из них (из гр.12) дети, на которых выплачива-ются денежные средства
Q18: посторон-ними гражданами | R18: добровольно переданные родителями по заявлению о назначении их ребенку опекуна (попечителя) | S18: дети, на ко-торых вып-лачиваются денежные средства | T18: переданные под предва-рительную опеку (попе-чительство) | U18: переданные на безвоз-мездную форму опеки (попечи-тельства) | V18: переданные на возмездную форму опеки (попечительства)
V19: по договору о приемной семье | W19: по договору о патронат- ной семье (в случаях, пре- дусмотрен- ных законами субъектов Российской Федерации) | X19: на иные виды возмездной опеки (попе-чительства)
A20: 1 | O20: 2 | P20: 3 | Q20: 4 | R20: 5 | S20: 6 | T20: 7 | U20: 8 | V20: 9 | W20: 10 | X20: 11 | Y20: 12 | Z20: 13 | AA20: 14
A21: Состояло детей на воспитании в семьях на начало отчетного года | O21: 1 | P21: 430739 | Q21: 123388 | R21: 29582 | S21: 369052 | T21: 5427 | U21: 262774 | V21: 116752 | W21: 1299 | X21: 14905 | Y21: 125680 | Z21: 37234 | AA21: 14880
A22: из них (стр. 01): в отношении которых прекращена та или иная форма семейного устройства за отчетный год | O22: 2 | P22: 15244 | Q22: 4866 | R22: 1484 | S22: 10216 | T22: 3573 | U22: 7912 | V22: 1431 | W22: 195 | X22: 556 | Y22: 116 | Z22: 0 | AA22: 7
A23: принято на другую форму семейного устройства за отчетный год | O23: 3 | P23: 12883 | Q23: 3619 | R23: 625 | S23: 8627 | T23: 527 | U23: 4374 | V23: 6517 | W23: 41 | X23: 725 | Y23: 2458 | Z23: 3 | AA23: 698
A24: Численность детей, которым дополнительно назначена выплата денежных средств в течение отчетного года | O24: 4 | S24: 3974 | AA24: 294
A25: Принято детей на воспитание в семьи за отчетный год | O25: 5 | P25: 91910 | Q25: 33969 | R25: 9452 | S25: 62632 | T25: 19870 | U25: 35261 | V25: 24933 | W25: 481 | X25: 1913 | Y25: 8473 | Z25: 1054 | AA25: 1197
A26: из них (стр. 05): в отношении которых прекращена та или иная форма семейного устройства за отчетный год | O26: 6 | P26: 13492 | Q26: 3642 | R26: 480 | S26: 7895 | T26: 9709 | U26: 2459 | V26: 502 | W26: 87 | X26: 167 | Y26: 177 | Z26: 1 | AA26: 12
A27: принято на другую форму семейного устройства за отчетный год | O27: 7 | P27: 12320 | Q27: 3225 | R27: 234 | S27: 8747 | T27: 282 | U27: 6418 | V27: 4214 | W27: 35 | X27: 1030 | Y27: 1368 | Z27: 1 | AA27: 370
A28: из них (из стр. 05): прибывших из других регионов | O28: 8 | P28: 8090 | Q28: 3650 | R28: 374 | S28: 6025 | T28: 608 | U28: 3911 | V28: 2920 | W28: 9 | X28: 268 | Y28: 729 | Z28: 0 | AA28: 237
A29: переданных из образовательных, медицинских организаций, организаций, оказывающих социальные услуги, и других организаций | O29: 9 | P29: 20194 | Q29: 13425 | R29: 85 | S29: 12986 | T29: 1189 | U29: 7502 | V29: 10896 | W29: 206 | X29: 316 | Y29: 3262 | Z29: 805 | AA29: 321
A30: Снято с учета детей, находящихся на воспитании в семьях, за отчетный год (сумма строк 11-15, 23,24) | O30: 10 | P30: 82577 | Q30: 22769 | R30: 8876 | S30: 55587 | T30: 5332 | U30: 48478 | V30: 16193 | W30: 383 | X30: 3315 | Y30: 13559 | Z30: 2491 | AA30: 942
A31: из них (из стр. 10): по достижении совершеннолетия (18 лет) | O31: 11 | P31: 37451 | Q31: 8320 | R31: 2812 | S31: 28124 | T31: 699 | U31: 25679 | V31: 6545 | W31: 103 | X31: 1613 | Y31: 8355 | Z31: 2147 | AA31: 587
A32: помещены под надзор в образовательные, медицинские организации, организации, оказывающие социальные услуги, другие организации для детей-сирот и детей, оставшихся без попечения родителей, на полное государственное обеспечение | O32: 12 | P32: 3251 | Q32: 1289 | R32: 52 | S32: 2765 | T32: 321 | U32: 1639 | V32: 1113 | W32: 49 | X32: 77 | Y32: 51 | Z32: 1 | AA32: 7
A33: поступили в образовательные учреждения начального, среднего и высшего профессионального образования, другие образовательные учреждения на полное государственное обеспечение | O33: 13 | P33: 4579 | Q33: 1084 | R33: 192 | S33: 3629 | T33: 166 | U33: 3148 | V33: 827 | W33: 71 | X33: 175 | Y33: 80 | Z33: 0 | AA33: 17
A34: выбыли к родителям | O34: 14 | P34: 13538 | Q34: 1352 | R34: 4511 | S34: 6186 | T34: 1643 | U34: 5492 | V34: 899 | W34: 32 | X34: 961 | Y34: 275 | Z34: 63 | AA34: 0
A35: умерли | O35: 15 | P35: 229 | Q35: 64 | R35: 9 | S35: 186 | T35: 6 | U35: 143 | V35: 65 | W35: 1 | X35: 5 | Y35: 7 | Z35: 0 | AA35: 1
A36: из них (из стр. 15) в результате суицида | O36: 16 | P36: 50 | Q36: 12 | R36: 1 | S36: 37 | T36: 3 | U36: 28 | V36: 17 | W36: 0 | X36: 1 | Y36: 0 | Z36: 0 | AA36: 0
... A44: по иным основаниям | O44: 24 | P44: 3543 | Q44: 941 | R44: 449 | S44: 1987 | T44: 731 | U44: 1700 | V44: 603 | W44: 23 | X44: 37 | Y44: 1761 | Z44: 119 | AA44: 10
A45: Численность детей, которым отменена выплата денежных средств без отмены опеки в течение отчетного года | O45: 25 | S45: 4806 | AA45: 51
A46: Состоит детей на воспитании в семьях на конец отчетного года (стр. 01 - стр. 02 + стр. 03 + стр. 04 + стр. 05 - стр. 06 + стр. 07 - стр. 10 - стр. 25) | O46: 26 | P46: 436539 | Q46: 132924 | R46: 29053 | S46: 374528 | T46: 7492 | U46: 249978 | V46: 134290 | W46: 1191 | X46: 14535 | Y46: 124127 | Z46: 35800 | AA46: 16427
A47: из них (из стр. 26) детей-сирот | O47: 27 | P47: 94352 | Q47: 19725 | R47: 132 | S47: 80046 | T47: 1594 | U47: 64435 | V47: 23810 | W47: 178 | X47: 4203 | Y47: 5828 | Z47: 1633 | AA47: 566
A48: детей, самовольно покидавших замещающие семьи в отчетном году | O48: 28 | P48: 620 | Q48: 239 | R48: 0 | S48: 430 | T48: 13 | U48: 286 | V48: 286 | W48: 1 | X48: 34 | Y48: 2 | Z48: 0 | AA48: 0
A49: Число приемных семей на конец отчетного года (ед) | O49: 29 | P49: 79368
A50: из них (из стр. 29) воспитывающих: 5 и более детей (без родных) | O50: 30 | P50: 3253
A51: 3-4 детей (без родных) | O51: 31 | P51: 9122
A52: 1-2 детей (без родных) | O52: 32 | P52: 66993
A53: Число детских домов семейного типа на конец отчетного года (ед) | O53: 33 | P53: 5
A54: в них детей (без родных) (чел) | O54: 34 | P54: 67
A55: Число патронатных семей на конец отчетного года (ед) | O55: 35 | P55: 851
A56: из них (из стр. 35) воспитывающих: 5 и более детей (без родных) | O56: 36 | P56: 2
A57: 3-4 детей (без родных) | O57: 37 | P57: 51
A58: 1-2 детей (без родных) | O58: 38 | P58: 798
A59: Число семей, в которых обязанности по опеке и попечительству опекуном (попечителем) исполняются безвозмездно (ед) | O59: 39 | P59: 212363
A60: в них детей (без родных) (чел) | O60: 40 | P60: 249978
...

Sheet Раздел 3
A15: Раздел 3. Устройство детей на воспитание в семьи граждан
A16: Код по ОКЕИ: человек – 792
O17: № строки | P17: Всего (сумма гр. 4 - 7) | Q17: в том числе (из гр. 3): | U17: детей-инвалидов (из гр. 3)
Q18: в возрасте:
Q19: до 1 года | R19: от 1 года до 3 лет | S19: от 3 до 7 лет | T19: от 7 лет и старше
A20: 1 | O20: 2 | P20: 3 | Q20: 4 | R20: 5 | S20: 6 | T20: 7 | U20: 8
A21: Численность детей, переданных на безвозмездную форму опеки (попечительства) на конец года | O21: 1 | P21: 32892 | Q21: 2242 | R21: 4534 | S21: 7465 | T21: 18651 | U21: 580
A22: из них (из стр. 01) посторонним гражданам | O22: 2 | P22: 9173 | Q22: 1417 | R22: 2109 | S22: 2094 | T22: 3553 | U22: 187
A23: Численность детей, переданных на возмездную форму опеки (попечительства) на конец года | O23: 3 | P23: 23464 | Q23: 979 | R23: 2954 | S23: 5619 | T23: 13912 | U23: 963
A24: из них (из стр. 03): по договору о приемной семье | O24: 4 | P24: 21264 | Q24: 840 | R24: 2694 | S24: 5185 | T24: 12545 | U24: 870
A25: по договору о патронатной семье (патронате, патронатном воспитании) в случаях, предусмотренных законами субъектов Российской Федерации | O25: 5 | P25: 403 | Q25: 11 | R25: 20 | S25: 45 | T25: 327 | U25: 15
A26: Численность усыновленных детей на конец года | O26: 6 | P26: 7668 | Q26: 3710 | R26: 1878 | S26: 1346 | T26: 734 | U26: 206
A27: в том числе (из стр. 06): гражданами Российской Федерации | O27: 7 | P27: 6616 | Q27: 3709 | R27: 1422 | S27: 881 | T27: 604 | U27: 123
A28: иностранными гражданами | O28: 8 | P28: 1052 | Q28: 1 | R28: 456 | S28: 465 | T28: 130 | U28: 83
A29: в том числе (из стр. 08) гражданами государств: США | O29: 9 | P29: 14 | Q29: 0 | R29: 1 | S29: 6 | T29: 7 | U29: 7
A30: Канада | O30: 10 | P30: 1 | Q30: 0 | R30: 1 | S30: 0 | T30: 0 | U30: 0
A31: Италия | O31: 11 | P31: 576 | Q31: 0 | R31: 208 | S31: 261 | T31: 107 | U31: 45
A32: Испания | O32: 12 | P32: 167 | Q32: 0 | R32: 79 | S32: 84 | T32: 4 | U32: 17
... A52: при содействии представительств иностранных организаций, имеющих соответствующие разрешения Минобрнауки России на осуществление деятельности по усыновлению на территории Российской Федерации | O52: 32 | P52: 688 | Q52: 1 | R52: 294 | S52: 306 | T52: 87 | U52: 52

Sheet Раздел 4
A16: Раздел 4. Численность граждан, желающих принять ребенка на воспитание в свои семьи
A17: Код по ОКЕИ: единица - 642
O18: № строки | P18: Опекуны (попечители) | S18: Усыновители
P19: Всего | Q19: Приемные родители | R19: Патронатные родители (в соответствии с законами субъектов Российской Федерации) | S19: Всего | T19: из них иностранные граждане (из гр. 6)
A20: 1 | O20: 2 | P20: 3 | Q20: 4 | R20: 5 | S20: 6 | T20: 7
A21: Состояло на учете семей, желающих принять ребенка на воспитание в семью, на начало отчетного года: в органах опеки и попечительства | O21: 1 | P21: 9383 | Q21: 4918 | R21: 114 | S21: 9081 | T21: 58
A22: в том числе (из стр. 01): супружеских пар | O22: 2 | P22: 3715 | Q22: 2083 | R22: 31 | S22: 6016 | T22: 55
A23: лиц, не состоящих в браке | O23: 3 | P23: 2710 | Q23: 1383 | R23: 18 | S23: 1539 | T23: 1
A24: семей, проживающих на территории данного муниципального образования | O24: 4 | P24: 5604 | Q24: 3088 | R24: 44 | S24: 4464 | T24: 0
A25: в региональном банке данных о детях | O25: 5 | P25: 2798 | Q25: 1644 | R25: 3 | S25: 4239 | T25: 1516
A26: в том числе (из стр. 05): супружеских пар | O26: 6 | P26: 870 | Q26: 599 | R26: 1 | S26: 2956 | T26: 1216
A27: лиц, не состоящих в браке | O27: 7 | P27: 998 | Q27: 538 | R27: 1 | S27: 526 | T27: 57
A28: Поставлено на учет семей, желающих принять ребенка на воспитание в семью, за отчетный год: в органах опеки и попечительства | O28: 8 | P28: 36566 | Q28: 16822 | R28: 200 | S28: 17750 | T28: 43
A29: в том числе (из стр. 08): супружеских пар | O29: 9 | P29: 14048 | Q29: 7414 | R29: 100 | S29: 13180 | T29: 42
A30: лиц, не состоящих в браке | O30: 10 | P30: 14667 | Q30: 6242 | R30: 64 | S30: 3454 | T30: 0
A31: семей, проживающих на территории данного муниципального образования | O31: 11 | P31: 28087 | Q31: 12365 | R31: 181 | S31: 9049 | T31: 0
A32: в региональном банке данных о детях | O32: 12 | P32: 5460 | Q32: 3381 | R32: 0 | S32: 5729 | T32: 1071
... A59: ребенка в возрасте старше 1 года до 5 лет | O59: 39 | P59: 3757 | Q59: 2173 | R59: 38 | S59: 3550 | T59: 295

Sheet Раздел 5
A17: Раздел 5. Защита прав детей в возрасте до 18 лет и лиц из числа детей, оставшихся без попечения родителей
A18: Код по ОКЕИ: единица - 642, человек - 792
O19: № строки | P19: Всего за отчетный год
A20: 1 | O20: 2 | P20: 3
A21: Численность детей, родители которых лишены родительских прав | O21: 1 | P21: 42901
A22: из них (из стр. 01) численность детей, у которых лишены родительских прав оба родителя или единственный родитель | O22: 2 | P22: 27859
A23: Численность детей, родители которых ограничены в родительских правах | O23: 3 | P23: 8633
A24: из них (из стр. 03) численность детей, у которых ограничены в родительских правах оба родителя или единственный родитель | O24: 4 | P24: 7115
A25: Численность детей, отобранных у родителей при непосредственной угрозе жизни или здоровью детей | O25: 5 | P25: 3270
A26: из них (из стр.05) детей, возвращенных родителям после проведения социально-реабилитационных мероприятий | O26: 6 | P26: 866
A27: Численность родителей, лишенных родительских прав | O27: 7 | P27: 36697
A28: из них (из стр. 07) в связи с:жестоким обращением с детьми, в том числе из-за физического или психического насилия над ними, покушения на их половую неприкосновенность | O28: 8 | P28: 392
A29: уклонением от выполнения обязанностей родителей, в том числе при злостном уклонении от уплаты алиментов | O29: 9 | P29: 28156
A30: отказом без уважительных причин взять своего ребенка из родильного дома (отделения) либо из иного лечебного учреждения, воспитательного учреждения, учреждения социальной защиты населения или из аналогичных организаций | O30: 10 | P30: 2066
A31: злоупотреблением своими родительскими правами | O31: 11 | P31: 1825
A32: заболеванием хроническим алкоголизмом или наркоманией | O32: 12 | P32: 4047
... A88: из них (из стр.67) детей-сирот и детей, оставшихся без попечения родителей | O88: 68 | P88: 222070

Sheet Раздел 6
A17: Раздел 6. Наличие специалистов по охране детства
A18: Код по ОКЕИ: человек - 792
O19: № строки | P19: Всего
A20: 1 | O20: 2 | P20: 3
A21: Численность специалистов по охране детства, а также занимающихся формированием и ведением регионального банка данных о детях, в органе исполнительной власти субъекта Российской Федерации, на который возложены полномочия по опеке и попечительству над несовершеннолетними гражданами | O21: 1 | P21: 1822
A22: Число территориальных органов (управлений, отделов), созданных органом исполнительной власти субъекта Российской Федерации, или органов местного самоуправления в составе субъекта Российской Федерации, на которые возложены полномочия по опеке и попечительству над несовершеннолетними гражданами | O22: 2 | P22: 2540
A23: в том числе (из стр. 02): имеющих 1 специалиста по охране детства | O23: 3 | P23: 490
A24: имеющих более 1 специалиста по охране детства | O24: 4 | P24: 2050
A25: не имеющих специалистов по охране детства | O25: 5 | P25: 0
A26: Общая численность специалистов по охране детства | O26: 6 | P26: 11176
A27: из них (из стр. 06): численность специалистов, работающих в данной сфере более 5 лет | O27: 7 | P27: 5001
A28: численность специалистов, работающих в данной сфере от 3 до 5 лет | O28: 8 | P28: 1593
A29: численность специалистов, работающих в данной сфере от 1 года до 3 лет | O29: 9 | P29: 2584
A30: численность специалистов, работающих в данной сфере менее 1 года | O30: 10 | P30: 1998
A31: Количество уполномоченных организаций, осуществляющих отдельные полномочия в сфере опеки и попечительства в порядке, установленном постановлением Правительства Российской Федерации от 18 мая 2009 г. № 423, | O31: 11 | P31: 2732
A32: из них (из стр. 11): по выявлению несовершеннолетних, нуждающихся в установлении над ними опеки или попечительства | O32: 12 | P32: 1632
... A41: иных организаций | O41: 21 | P41: 203
A45: Должностное лицо, ответственное за предоставление статистической информации (лицо, уполномоченное предоставлять статистическую информацию от имени
A46: юридического лица)
E47: (должность) | I47: (Ф.И.О.) | P47: (подпись)
E50: (номер контактного телефона) | I50: (дата составления документа)

Sheet Флак
A1: T_Check | J1: Data_Adr | O1: Verificationcheck
A2: ID_Form | B2: ID_Section | C2: ID_Rule | D2: ID_Check | E2: Name | F2: P_Left | G2: P_Right | H2: Result | J2: ID_Element | K2: Sorting | L2: Name | M2: Val | O2: Дата проведения проверки | P2: Результат проведения проверки: 0-не проводилась, 1-проводилась (ошибок нет), 2-проводилась (есть ошибки)
A3: =P_3 -> 609542 | B3: 0 | C3: 0 | D3: 0 | E3: =CONCATENATE("Количество ошибок в документе: ",H3) -> Количество ошибок в документе: 6 | H3: =SUM(H4:H11,H12,H35,H600,H707,H1054,H1088,H1101) -> 6 | J3: P_FormName | K3: 1 | L3: Наименование формы: | M3: Форма № 103-рик
A4: =P_3 -> 609542 | B4: 0 | C4: 1 | D4: 1 | E4: Не указано наименование отчитывающейся организации | H4: =IF(LEN(P_1)<>0,0,1) -> 0 | J4: P_Name | K4: 2 | L4: Наименование отчитыающейся организации: | M4: =IF(P_1=0,"Нет данных",P_1) -> Российская Федерация | O4: =TODAY() -> 42065 | P4: 0
A5: =P_3 -> 609542 | B5: 0 | C5: 2 | D5: 2 | E5: Не указан почтовый адрес | H5: =IF(LEN(P_2)<>0,0,1) -> 1 | J5: P_Adress | K5: 3 | L5: Почтовый адрес: | M5: =IF(P_2=0,"Нет данных",P_2) -> Нет данных
A6: =P_3 -> 609542 | B6: 0 | C6: 3 | D6: 3 | E6: Не указан код ОКУД | H6: =IF(LEN(P_3)<>0,0,1) -> 0 | J6: P_OKUD | K6: 4 | L6: Код формы по ОКУД: | M6: =TEXT(P_3,"0000000") -> 0609542
A7: =P_3 -> 609542 | B7: 0 | C7: 4 | D7: 4 | E7: Не указан код ОКПО | H7: =IF(LEN(P_4)<>0,0,1) -> 1 | J7: P_OKPO | K7: 5 | L7: Код отчитывающейся организации по ОКПО: | M7: =IF(P_4=0,"Нет данных",P_4) -> Нет данных
A8: =P_3 -> 609542 | B8: 0 | C8: 5 | D8: 5 | E8: Не указана должность лица, ответственного за предоставление стат.информации | H8: =IF(LEN(R_1)<>0,0,1) -> 1 | J8: Конец DATA_ADR
A9: =P_3 -> 609542 | B9: 0 | C9: 6 | D9: 6 | E9: Не указаны ФИО, ответственного за предоставление стат.информации | H9: =IF(LEN(R_2)<>0,0,1) -> 1
A10: =P_3 -> 609542 | B10: 0 | C10: 7 | D10: 7 | E10: Не указан номер контактного телефона | H10: =IF(LEN(R_3)<>0,0,1) -> 1
A11: =P_3 -> 609542 | B11: 0 | C11: 8 | D11: 8 | E11: Не указана дата составления документа | H11: =IF(LEN(R_4)<>0,0,1) -> 1
A12: =P_3 -> 609542 | B12: 1 | C12: 0 | D12: 0 | E12: =CONCATENATE("Количество ошибок в разделе 1: ",H12) -> Количество ошибок в разделе 1: 0 | H12: =SUM(H13:H34) -> 0
A13: =P_3 -> 609542 | B13: 1 | C13: 1 | D13: 1 | E13: Раздел 1 строка 06 = Раздел 1 сумма строк 01 + 02 | H13: =IF('Раздел 1'!$P$26=SUM('Раздел 1'!$P$21:$P$22),0,1) -> 0
A14: =P_3 -> 609542 | B14: 1 | C14: 2 | D14: 2 | E14: Раздел 1 строка 30 = Раздел 1 строка 06 - сумма строк (07-11, 13, 20, 25-29) | H14: =IF('Раздел 1'!P50='Раздел 1'!P26-SUM('Раздел 1'!P27:P31,'Раздел 1'!P33,'Раздел 1'!P40,'Раздел 1'!P45:P49),0,1) -> 0
A15: =P_3 -> 609542 | B15: 1 | C15: 3 | D15: 3 | E15: Раздел 1 строка 02 >= Раздел 1 строка 03 | H15: =IF('Раздел 1'!P22>='Раздел 1'!P23,0,1) -> 0
A16: =P_3 -> 609542 | B16: 1 | C16: 4 | D16: 4 | E16: Раздел 1 строка 02 >= Раздел 1 строка 04 | H16: =IF('Раздел 1'!P22>='Раздел 1'!P24,0,1) -> 0
A17: =P_3 -> 609542 | B17: 1 | C17: 5 | D17: 5 | E17: Раздел 1 строка 02 >= Раздел 1 строка 05 | H17: =IF('Раздел 1'!P22>='Раздел 1'!P25,0,1) -> 0
A18: =P_3 -> 609542 | B18: 1 | C18: 6 | D18: 6 | E18: Раздел 1 строка 30 >= Раздел 1 строка 31 | H18: =IF('Раздел 1'!P50>='Раздел 1'!P51,0,1) -> 0
A19: =P_3 -> 609542 | B19: 1 | C19: 7 | D19: 7 | E19: Раздел 1 строка 06 = Раздел 1 сумма строк (07-11, 13, 20, 25-30) | H19: =IF('Раздел 1'!P26=SUM('Раздел 1'!P27:P31,'Раздел 1'!P33,'Раздел 1'!P40,'Раздел 1'!P45:P50),0,1) -> 0
A20: =P_3 -> 609542 | B20: 1 | C20: 8 | D20: 8 | E20: Раздел 1 строка 35 = Раздел 1 строка 32 + строка 33 - строка 34 | H20: =IF('Раздел 1'!P55='Раздел 1'!P52+'Раздел 1'!P53-'Раздел 1'!P54,0,1) -> 0
A21: =P_3 -> 609542 | B21: 1 | C21: 9 | D21: 9 | E21: Раздел 1 строка 20 = Раздел 1 сумма строк 21 + 22 | H21: =IF('Раздел 1'!P40=SUM('Раздел 1'!P41:P42),0,1) -> 0
A22: =P_3 -> 609542 | B22: 1 | C22: 10 | D22: 10 | E22: Раздел 1 строка 22 >= Раздел 1 сумма строк 23 + 24 | H22: =IF('Раздел 1'!P42>=SUM('Раздел 1'!P43:P44),0,1) -> 0
A23: =P_3 -> 609542 | B23: 1 | C23: 11 | D23: 11 | E23: Раздел 1 строка 22 >= Раздел 1 строка 23 | H23: =IF('Раздел 1'!P42>='Раздел 1'!P43,0,1) -> 0
A24: =P_3 -> 609542 | B24: 1 | C24: 12 | D24: 12 | E24: Раздел 1 строка 22 >= Раздел 1 строка 24 | H24: =IF('Раздел 1'!P42>='Раздел 1'!P44,0,1) -> 0
A25: =P_3 -> 609542 | B25: 1 | C25: 13 | D25: 13 | E25: Раздел 1 строка 12 >= Раздел 1 сумма строк (13+14+15+16+19) | H25: =IF('Раздел 1'!P32>=SUM('Раздел 1'!P33:P36,'Раздел 1'!P39),0,1) -> 0
A26: =P_3 -> 609542 | B26: 1 | C26: 14 | D26: 14 | E26: Раздел 1 строка 21 >= Раздел 1 строка 15 | H26: =IF('Раздел 1'!P41>='Раздел 1'!P35,0,1) -> 0
A27: =P_3 -> 609542 | B27: 1 | C27: 15 | D27: 15 | E27: Раздел 1 строка 22 >= Раздел 1 строка 16 | H27: =IF('Раздел 1'!P42>='Раздел 1'!P36,0,1) -> 0
A28: =P_3 -> 609542 | B28: 1 | C28: 16 | D28: 16 | E28: Раздел 1 строка 23 >= Раздел 1 строка 17 | H28: =IF('Раздел 1'!P43>='Раздел 1'!P37,0,1) -> 0
A29: =P_3 -> 609542 | B29: 1 | C29: 17 | D29: 17 | E29: Раздел 1 строка 24 >= Раздел 1 строка 18 | H29: =IF('Раздел 1'!P44>='Раздел 1'!P38,0,1) -> 0
A30: =P_3 -> 609542 | B30: 1 | C30: 18 | D30: 18 | E30: Раздел 1 строка 16 >= Раздел 1 строка 17 | H30: =IF('Раздел 1'!P36>='Раздел 1'!P37,0,1) -> 0
A31: =P_3 -> 609542 | B31: 1 | C31: 19 | D31: 19 | E31: Раздел 1 строка 16 >= Раздел 1 строка 18 | H31: =IF('Раздел 1'!P36>='Раздел 1'!P38,0,1) -> 0
A32: =P_3 -> 609542 | B32: 1 | C32: 20 | D32: 20 | E32: Раздел 1 строка 25 >= Раздел 1 строка 19 | H32: =IF('Раздел 1'!P45>='Раздел 1'!P39,0,1) -> 0
A33: =P_3 -> 609542 | B33: 1 | C33: 21 | D33: 21 | E33: Раздел 1 строка 06 >= Раздел 1 строка 40 | H33: =IF('Раздел 1'!P26>='Раздел 1'!P60,0,1) -> 0
A34: =P_3 -> 609542 | B34: 1 | C34: 22 | D34: 22 | E34: Раздел 1 строка 40 >= Раздел 1 строка 41 | H34: =IF('Раздел 1'!P60>='Раздел 1'!P61,0,1) -> 0
A35: =P_3 -> 609542 | B35: 2 | C35: 0 | D35: 0 | E35: =CONCATENATE("Количество ошибок в разделе 2: ",H35) -> Количество ошибок в разделе 2: 0 | H35: =SUM(H36:H599) -> 0
A36: =P_3 -> 609542 | B36: 2 | C36: 1 | D36: 1 | E36: строка 01 графа 03 >= строка 02 графа 03 | H36: =IF('Раздел 2'!P21>='Раздел 2'!P22,0,1) -> 0
A37: =P_3 -> 609542 | B37: 2 | C37: 2 | D37: 2 | E37: строка 01 графа 04 >= строка 02 графа 04 | H37: =IF('Раздел 2'!Q21>='Раздел 2'!Q22,0,1) -> 0
A38: =P_3 -> 609542 | B38: 2 | C38: 3 | D38: 3 | E38: строка 01 графа 05 >= строка 02 графа 05 | H38: =IF('Раздел 2'!R21>='Раздел 2'!R22,0,1) -> 0
A39: =P_3 -> 609542 | B39: 2 | C39: 4 | D39: 4 | E39: строка 01 графа 06 >= строка 02 графа 06 | H39: =IF('Раздел 2'!S21>='Раздел 2'!S22,0,1) -> 0
A40: =P_3 -> 609542 | B40: 2 | C40: 5 | D40: 5 | E40: строка 01 графа 07 >= строка 02 графа 07 | H40: =IF('Раздел 2'!T21>='Раздел 2'!T22,0,1) -> 0
...

Sheet Spravochnik
